BEGIN:VCALENDAR
PRODID:-//Grails iCalendar plugin//NONSGML Grails iCalendar plugin//EN
VERSION:2.0
CALSCALE:GREGORIAN
METHOD:PUBLISH
BEGIN:VEVENT
DTSTAMP:20260422T172808Z
DTSTART;TZID=Europe/London:20221112T090000
DTEND;TZID=Europe/London:20221113T170000
SUMMARY:26th Annual Oxford Graduate Philosophy Conference
UID:20260427T012655Z-iCalPlugin-Grails@philevents-web-6b96c54f56-bljdq
TZID:Europe/London
LOCATION:Faculty of Philosophy\, Oxford\, United Kingdom\, OX2 6GG
DESCRIPTION:<p>We are delighted to announce that the 26th Annual Oxford Graduate Philosophy Conference will take place on Saturday and Sunday 12-13 November 2022 in the Faculty of Philosophy at the University of Oxford.</p>\n<p>Anyone with an interest in philosophy is welcome to attend. If you wish to attend in person\, please email&nbsp\;<a href="mailto:gradconf@philosophy.ox.ac.uk">gradconf@philosophy.ox.ac.uk</a>&nbsp\;in advance specifying which talk(s) you plan on attending.&nbsp\;</p>\n<p>There is also the option to attend remotely via Zoom using this link:&nbsp\;<a href="https://zoom.us/j/7842229223?pwd=T1B6dGV3akxnRFNESDN6NEsxOGtRdz09">https://zoom.us/j/7842229223?pwd=T1B6dGV3akxnRFNESDN6NEsxOGtRdz09</a>&nbsp\;</p>\n<p><strong>Keynote Speakers</strong><br><strong></strong></p>\n<p><strong>Rachel Fraser | The Limits of Ideology Critique</strong><br><em>University of Oxford</em><br><br><strong>Jonathan Parry | What&rsquo\;s Wrong with Paternalism?</strong><br><em>London School of Economics</em></p>\n<p><strong>Conference Programme</strong></p>\n<p><strong>Saturday 12 November</strong></p>\n<p><strong>9:00-9:30 | Breakfast and Registration</strong></p>\n<p><strong>9:30-10:25 | Slurs as Ideology: A Defence of Prohibitionism</strong><br><em><em>Pepa Mellema (Univers</em>ity College Dublin)</em><br>Response: Timothy Williamson<br><strong></strong></p>\n<p><strong>10:35-11:30 | Toward a New Theory of Moderate Contingentism</strong><br><em><em>Pranci&scaron\;kus Gricius (Vil</em>nius University)</em><br>Response: Adrian Moore<br><strong></strong></p>\n<p><strong>11:40-12:35 | Moral Principles: A Challenge for Deniers of Moral Luck</strong><br><em>Anna Nyman (Uppsala University)</em><br>Response: Roger Crisp<br><strong></strong></p>\n<p><strong>12:35-13:40 | Lunch</strong></p>\n<p><strong>13:40-14:35 | Aristotle on the Logical Relation between the Principles of Non-Contradiction and Excluded Middle in&nbsp\;<em>Metaphysics</em>&nbsp\;&Gamma\;.4</strong><br><em>Christopher Izgin (Humboldt-Universit&auml\;t zu Berlin\, New York University)</em><br>Response: Alexander Bown<br><strong></strong></p>\n<p><strong>14:45-15:40 | Privacy\, Knowledge\, and Self-Presentation</strong><br><em>Cameron McCulloch (University of Michigan\, Ann Arbor)</em><br>Response: Charlotte Unruh</p>\n<p><strong>15:50-16:45 | Two Kinds of Supererogation</strong><br><em>Nick K&uuml\;spert (University of St Andrews)</em><br>Response: Anil Gomes</p>\n<p><strong>16:45-17:05 | Tea and Coffee</strong></p>\n<p><strong>17:05-18:00 | The Wisdom of Live\, Laugh\, Love: Aesthetically Caused Epistemic Misjudgements and the Banality Objection to Cognitivism</strong><br><em>Alice Harberd (University College London)</em><br>Response: David Collins</p>\n<p><strong>18:10-19:30 |&nbsp\;KEYNOTE SPEECH:&nbsp\;The Limits of Ideology Critique</strong><br><em>Rachel Fraser (University of Oxford)</em><br>Followed by Q&amp\;A</p>\n<p><strong>20:00-22:30 | Conference Dinner</strong></p>\n<p><strong>Sunday 13 November</strong></p>\n<p><strong><strong>9:00-9:30 | Breakfast and Registration</strong></strong></p>\n<p><strong>9:30-10:25 | Trust for Understanding</strong><br><em>Adham El Shazly (University of Cambridge)</em><br>Response: Bernhard Salow</p>\n<p><strong>10:35-11:30 | Perceiving Persistence Conditions</strong><br><em>Evan Welchance (University of Virginia)</em><br>Response: Nicholas K. Jones<br><strong></strong></p>\n<p><strong>11:40-12:35 | The Evil Demon Meets the Invisible Gorilla</strong><br><em>Edvard Avil&eacute\;s-Meza (Cornell University)</em><br>Response: Bill Child</p>\n<p><strong>12:35-13:40 | Lunch</strong></p>\n<p><strong>13:40-14:35 | The Attenuated Authority of Personal Testimony about Disability</strong><br><em>Sara Chan Yun Yu (University of Notre Dame)</em><br>Response: Guy Kahane<br><strong></strong></p>\n<p><strong>14:45-15:40 | On Aristotle&rsquo\;s Test for&nbsp\;<em>Energeia</em>&nbsp\;in&nbsp\;<em>Metaphysics</em>&nbsp\;&Theta\;&nbsp\;6: The Tense-Aspect Reading</strong><br><em>Kyoungmin Cho (University of Illinois at Chicago)</em><br>Response: Michail Peramatzis</p>\n<p><strong>15:50-16:45 | Grounding the Wrong of Colonialism in Self-Respect</strong><br><em>Anthony Nguyen (University of Southern California)</em><br>Response: David Miller</p>\n<p><strong>16:45-17:05 | Tea and Coffee</strong></p>\n<p><strong>17:05-18:25 |&nbsp\;KEYNOTE SPEECH:&nbsp\;What&rsquo\;s Wrong with Paternalism?</strong><br><em>Jonathan Parry (London School of Economics)</em><br>Followed by Q&amp\;A</p>\n<p><strong>18:25-20:00 | Wine Reception</strong></p>\n<p>The conference programme is subject to change\, so please check our&nbsp\;<a href="https://www.philosophy.ox.ac.uk/oxford-philosophy-graduate-conference">website</a>&nbsp\;for updates. Breakfast\, a light lunch\, and tea/coffee will be provided for all conference attendees. More information about the conference can be found on&nbsp\;<a href="https://www.philosophy.ox.ac.uk/oxford-philosophy-graduate-conference">the conference website</a>.</p>\n<p>We look forward to seeing you there!&nbsp\;</p>\n<p>The Organising Committee for the 26th Annual Oxford Graduate Philosophy Conference</p>
ORGANIZER;CN=Julian Ratcliffe;CN=Jen Semler;CN=Kyle van Oosterum;CN=Imogen Rivers;CN=Alexander Arridge;CN=Lewis Williams;CN=Tom Ralston;CN=Dom Mcguire:
METHOD:PUBLISH
END:VEVENT
END:VCALENDAR
