BEGIN:VCALENDAR
PRODID:-//Grails iCalendar plugin//NONSGML Grails iCalendar plugin//EN
VERSION:2.0
CALSCALE:GREGORIAN
METHOD:PUBLISH
BEGIN:VEVENT
DTSTAMP:20260424T231557Z
DTSTART;TZID=Europe/London:20210609T110000
DTEND;TZID=Europe/London:20210609T113000
SUMMARY:Newton’s Razor: An Evidentialist Account of Hypothesis-Formation
UID:20260426T072612Z-iCalPlugin-Grails@philevents-web-6b96c54f56-bljdq
TZID:Europe/London
LOCATION:Newcastle University\, Newcastle upon Tyne\, United Kingdom\, NE1 7RU
DESCRIPTION:<p>Philosophy Across Disciplines is an annual conference run in association with the Philosophy Department at Newcastle University. The aim of the conference is to showcase the interdisciplinary capacity of philosophy. We feature research that engages either with applied philosophy or philosophy that is interdisciplinary or transdisciplinary by nature\, from both undergraduate and postgraduate students.&nbsp\;</p>\n<p>Attendance is free.</p>\n<p>Guest speakers and running order to be announced.</p>\n<p>Zoom links will be distributed to registered guests prior to the event.</p>\n<p>If you have any questions\, don't hesitate to email us: philosacross@newcastle.ac.uk</p>
ORGANIZER;CN=Zoe Waters:
METHOD:PUBLISH
END:VEVENT
END:VCALENDAR
