BEGIN:VCALENDAR
PRODID:-//Grails iCalendar plugin//NONSGML Grails iCalendar plugin//EN
VERSION:2.0
CALSCALE:GREGORIAN
METHOD:PUBLISH
BEGIN:VEVENT
DTSTAMP:20260423T121403Z
DTSTART;TZID=Europe/Athens:20231012T090000
DTEND;TZID=Europe/Athens:20231014T170000
SUMMARY:Politics of Technologies in the Digital Age: Philosophical and Interdisciplinary Perspectives
UID:20260429T115606Z-iCalPlugin-Grails@philevents-web-6b96c54f56-bljdq
TZID:Europe/Athens
LOCATION:Ioánnina\, Greece
DESCRIPTION:<p>Thirty six years ago\, Langdon Winner famously asked the question: &ldquo\;do artifacts have politics?&rdquo\;. However\, the broader concern about technology\, its course and nature begun much earlier. Not only with Martin Heidegger&rsquo\;s well-known essay on &ldquo\;The question concerning Technology&rdquo\; (1955)\, but already from the publication of modernity&rsquo\;s emblematic work\, Francis Bacon&rsquo\;s&nbsp\;<em>Novum Organum</em>&nbsp\;(1620).</p>\n<p>Today\, the digital world and the Internet lead to rapid technological changes in a wide range of social domains such as work\, education\, communication and the market. Inevitably\, contemplating technology today involves considerations about cyberspace\, cybertime and the digital self\, while contemporary philosophy of technology increasingly turns its attention to issues concerning the future and the impact of the Internet.</p>\n<p>At the same time\, it is beyond doubt that the nature of the Internet is inherently social. Think\, for example\, of the impact of social media and the resulting surveillance capitalism&mdash\;largely products of Web technologies that make possible the continuous and elaborate tracking of internet users&rsquo\; activities.</p>\n<p>Indeed\, such is the impact of the Internet on individuals&rsquo\; psychological and social state that an increasing number of philosophical works concerns with the co-existence of machines and humans\, going often so far as to envision the transition to a world where the rigid distinction between the user and the artifact will gradually blur. Users and technology\, instead\, often appear as co-authors of a shared self-narrative\, raising questions of ontological\, epistemological\, humanist and socio-historical texture.</p>\n<p>A particularly important issue in this context concerns the control and construction of digital technologies. How do we deal with the fact that people and corporations that are responsible for the constructions of digital technologies and infrastructures may affect social structures\, political functions and personal behaviors in a historically unprecedented way? Current social and political events clearly highlight the importance of such concerns. Think\, for example\, of the way the ongoing pandemic intensified and transformed the involvement of digital technologies across nearly all dimensions of social and personal lives.</p>\n<p>Thus it is obvious that Winner&rsquo\;s question is today more pertinent than ever. Exploring and understanding the political nature of artifacts (both digital and analogue) is\, no doubt\, one of the most pressing and important topics of our time.</p>\n<p>We are pleased to announce an international symposium dedicated to the relationship of digital technologies with politics. We invite contributions to any of the topics that appear below (the list being only indicative and non-exhaustive):</p>\n<p>Socio-historical dimensions of the digital age</p>\n<p>Digital technologies and forms of power</p>\n<p>Online propaganda</p>\n<p>Social machines and politics</p>\n<p>Conspiracy theories and the internet</p>\n<p>Cyberfeminism</p>\n<p>Humanist approaches to digital technologies</p>\n<p>Phenomenological and post-phenomenological approaches to digital technologies</p>\n<p>Artificial intelligence and governmentality</p>\n<p>Algorithmic bias</p>\n<p>Digital technologies and war</p>\n<p>Challenges of democracy in the digital era</p>\n<p>Digital economy</p>\n<p>Digital capitalism</p>\n<p>Digital labor</p>\n<p>Digital technologies and education</p>\n<p>Gaming and gamification</p>\n<p>Online virtues\, vices and politics</p>\n<p>From biopolitics to the &ldquo\;societies of control&rdquo\;</p>\n<p>Digital commons</p>\n<p>Digital technologies in the post-COVID 19 era</p>\n<p>We strongly encourage applications from a broad range of social\, cultural and educational backgrounds and especially from authors representing&nbsp\;disenfranchised&nbsp\;groups.</p>
ORGANIZER:
METHOD:PUBLISH
END:VEVENT
END:VCALENDAR
