BEGIN:VCALENDAR
PRODID:-//Grails iCalendar plugin//NONSGML Grails iCalendar plugin//EN
VERSION:2.0
CALSCALE:GREGORIAN
METHOD:PUBLISH
BEGIN:VEVENT
DTSTAMP:20260425T175611Z
DTSTART;TZID=America/Santiago:20220623T100000
DTEND;TZID=America/Santiago:20220623T170000
SUMMARY:Syllogism and argumentation
UID:20260427T161243Z-iCalPlugin-Grails@philevents-web-6b96c54f56-bljdq
TZID:America/Santiago
LOCATION:Vicuña Mackenna 4686\, Santiago\, Chile
DESCRIPTION:<p>The idea of this Workshop is to have an online event with exploratory talks about the relation between argumentation and the syllogism. Some of the research questions that guide our proposal are: a) Is there any difference between syllogism and argumentation? b) Is there any aspect of the syllogism that distinguishes it from argumentation? c) Would it be correct to maintain that argumentation is a syllogism that has more than three parts\, where the fourth\, fifth\, and more parts are proofs of the truth value of the premises?</p>\n<p><strong>Talks</strong></p>\n<p>Lorenz Demey (KU Leuven). <em>From Existential Import in Syllogistics to Translations between Modal Logics.</em></p>\n<p>Sara Uckelman (Durham University). <em>Christine Ladd-Franklin and the Syllogistic Problem She Solved.</em></p>\n<p>Luca Gili (Universit&eacute\; du Qu&eacute\;bec &agrave\; Montr&eacute\;al). <em>Aristotle&rsquo\;s Unified Method of Inquiry.</em></p>\n<p>Marko Malink (New York University). <em>To be confirmed.</em></p>\n<p>Karel Sebela (Palacky University). <em>Theory of Predicables and Sortal Logic.</em></p>\n<p>Manuel Correia (Pontificia Universidad Cat&oacute\;lica de Chile). <em>Minimal and maximal arguments.</em></p>
ORGANIZER;CN="José David García Cruz";CN="Adrián Ortuño Sosa";CN=Miguel Carmona Tabja;CN=Manuel Correia Machuca:
METHOD:PUBLISH
END:VEVENT
END:VCALENDAR
