BEGIN:VCALENDAR
PRODID:-//Grails iCalendar plugin//NONSGML Grails iCalendar plugin//EN
VERSION:2.0
CALSCALE:GREGORIAN
METHOD:PUBLISH
BEGIN:VEVENT
DTSTAMP:20260420T214618Z
DTSTART;TZID=America/Vancouver:20130604T100000
DTEND;TZID=America/Vancouver:20130607T180000
SUMMARY:Panels on Animals and Philosophy
UID:20260421T080631Z-iCalPlugin-Grails@philevents-web-6b96c54f56-bljdq
TZID:America/Vancouver
LOCATION:3800 Finnerty Rd  \, Victoria\, Canada
DESCRIPTION:<p><u>June 5th 9:00-11:30&nbsp\;: Panel &laquo\; Phenomenological Approaches to Animal Otherness &raquo\;</u><br><br>&rarr\; <strong>Brett Buchanan</strong> (Laurentian University) Being Towards Extinction (details)<br>&rarr\; <strong>Don Beith</strong> (McGill University)\, Merleau-Ponty&rsquo\;s Animate Epistemology: Learning to Perceive (as) Animals</p>\n<p><u>June 5th 14:00-16:30&nbsp\;: Panel &laquo\; Animals: Rights\, Veganism and Justice &raquo\;</u><br><br>&rarr\; <strong>Val&eacute\;ry Giroux</strong> (Universite de Montreal)\, An Antispeciest Approach to Fundamental Rights<br>&rarr\; <strong>Sue Donaldson</strong> (co-author with Will Kymlicka of <em>Zoopolis: A Political Theory of Animal Rights</em>\, OUP\, 2011)\, Unruly Beasts: Humans and Animals Sharing the Demos</p>\n<p><u>June 6th 9:00-12:30&nbsp\;: Panel &laquo\; Veganarchism and Paleoethics: Equality beyond Species &raquo\;</u></p>\n<p>&rarr\; <strong>Cynthia Willet</strong> (Emory University) Interspecies Living (a serious ethics with a comic twist).<br>&rarr\; <strong>Dinesh Wadiwel</strong> (University of Sidney)\, Resisting the War Against Animals: Counter-Conduct and Truce<br>&rarr\; <strong>John Sanbonmatsu </strong>(Worcester Polytechnic Institute)\, <em>Critical Theory and Animal Liberation</em>(Rowman &amp\; Littlefield\, 2011)</p>\n<p><u>June 6th 14:00-17:30&nbsp\;: &laquo\; Book Panel on Gary Steiner&rsquo\;s Animals and the Limits of Postmodernism (CUP\, 2013) &raquo\;</u><br><br>&rarr\; <strong>Patrick Llored</strong> (Universit&eacute\; de Lyon) author of Jacques Derrida\, Politique et &eacute\;thique de l&rsquo\;animalit&eacute\; (Sils Maria\, 2013)<br>&rarr\; <strong>Chlo&euml\; Taylor</strong> (Universit&eacute\; d&rsquo\;Alberta)\, &laquo\;&nbsp\;Foucault and the Ethics of Eating&nbsp\;&raquo\; (Foucault Studies\, 2010) <br>&rarr\; <strong>Jan Dutkiewicz</strong>(PhD candidate in the Department of Politics at the New School for Social Research)<br>&rarr\; <strong>Gary Steiner</strong> (Bucknell University)\, Animals and the Moral Community (CUP\, 2008)\, Anthropocentrism and Its Discontents: The Moral Status of Animals in the History of Western Philosophy (University of Pittsburgh Press\, 2005)</p>
ORGANIZER;CN=Christiane Bailey :
METHOD:PUBLISH
END:VEVENT
END:VCALENDAR
