BEGIN:VCALENDAR
PRODID:-//Grails iCalendar plugin//NONSGML Grails iCalendar plugin//EN
VERSION:2.0
CALSCALE:GREGORIAN
METHOD:PUBLISH
BEGIN:VEVENT
DTSTAMP:20260419T224152Z
DTSTART;TZID=Europe/Bucharest:20221118T090000
DTEND;TZID=Europe/Bucharest:20221119T170000
SUMMARY:Kuhn 100
UID:20260422T174147Z-iCalPlugin-Grails@philevents-web-f5d4878dd-nv7xt
TZID:Europe/Bucharest
LOCATION:Splaiul Independenţei nr. 204\, Bucharest\, Romania\, 060024
DESCRIPTION:<p>The "Kuhn 100" conference is organized in partnership between the Faculty of Philosophy at the University of Bucharest (through its Department for Theoretical Philosophy) and the University's Research Institute (ICUB)\, specifically its Humanities Division.</p>\n<p>The event is scheduled to take place November 18-19\, 2022.&nbsp\;It will have a mixed format\, in that speakers may choose whether they present online only\, or face to face at the event's location (if so\, their session will enjoy a live audience\, but it will also be streamed to remote participants).</p>\n<p><strong>Friday\, Nov. 18</strong></p>\n<p>11.45am Opening</p>\n<p>12pm Roman Krzanowski\, The Pontifical University of John Paul II\, Krakow\,&nbsp\;<em>Artificial Intelligence (AI) Paradigms and&nbsp\;Kuhn&rsquo\;s Paradigm Shift</em></p>\n<p>1pm Deniz Sarikaya\, Vrije Universiteit Brussels\,&nbsp\;<em>Revolutions in mathematics! The Case of Interactive Theorem Provers</em></p>\n<p>2pm <strong>keynote</strong> Theodore Arabatzis\, National and Kapodistrian University of Athens\,&nbsp\;<em>Kuhn&nbsp\;and the Prospects of Philosophical History of Science</em></p>\n<p>3pm Adam Timmins\, University of York\,&nbsp\;<em>Squaring the Circle: Or Minimising the Role of History in&nbsp\;Kuhn&rsquo\;s Philosophical Work&nbsp\;</em></p>\n<p>4pm&nbsp\;<strong>keynote&nbsp\;</strong>Alexander Bird\, University of Cambridge\,&nbsp\;<em>Interpreting 'Structure'</em></p>\n<p>5pm Dana Jalobeanu\, University of Bucharest\,&nbsp\;<em>Turning Labels into Historiographic Categories: Baconiansm and Newtonianism in early modern Europe</em></p>\n<p>6pm Mihnea Dobre\, University of Bucharest\,&nbsp\;<em>Going Beyond&nbsp\;Kuhn: Paradigms\, Incommensurability\, and Textbooks</em></p>\n<p>7pm Lydia Patton\, Virginia Tech\,&nbsp\;<em>Anti-Foundationalism in&nbsp\;Kuhn&nbsp\;and Logical Empiricism</em></p>\n<p><em></em><strong>Saturday\, Nov. 19</strong></p>\n<p>11am Mircea Flonta\, University of Bucharest &amp\; Romanian Academy\,&nbsp\;<em>O controversă filosofică tipică? Disputa Popper-Kuhn</em>&nbsp\;(in Romanian)</p>\n<p>12pm Constantin Stoenescu\, University of Bucharest\,&nbsp\;<em>How much did Fleck influence&nbsp\;Kuhn? From 'style' to 'paradigm'</em></p>\n<p>1pm&nbsp\;<strong>keynote&nbsp\;</strong>Hasok Chang\, University of Cambridge\,&nbsp\;<em>Kuhn&nbsp\;and science education</em></p>\n<p>2pm&nbsp\;<strong>keynote&nbsp\;</strong>Hanne Andersen\, University of Copenhagen\,&nbsp\;<em>The Structure and development of 21st century science</em></p>\n<p>3pm Hannah Sine\, Villanova University\,&nbsp\;<em>Epistemic Limitations and Specialization in Academia</em></p>\n<p>4pm Qiu Lin\, Cornell University\,&nbsp\;<em>Reconstruing the Kuhnian 'Different Worlds'</em></p>\n<p>5pm Hakob Barseghyan &amp\; Aayu Pandey\, University of Toronto\,&nbsp\;<em>The Mechanics of&nbsp\;Kuhn-Loss: A Close Up</em></p>\n<p>For those of you who would like to join some of the talks but have overlapping commitments\, we will do our best to record the meetings whenever everyone in attendance consents to it\, and to then upload the recordings on the Department's YouTube channel. Previous talks are available here: https://www.youtube.com/channel/UCOgUq3dN8CXI4L6DhZT1f_Q</p>\n<p>Event details will also be available\, in due course\, on the Facebook&nbsp\;page: "Seminarul Departamentului de Filosofie Teoretica UniBuc". To register for the conference and receive connection details\, please contact&nbsp\;kuhn100@filosofie.unibuc.ro&nbsp\;on or before November 15\, 2022.</p>\n<p>In the aftermath of the conference\, we would enjoy jointly exploring the possibility of publishing its proceedings. More details will be forthcoming at the time.</p>
ORGANIZER;CN="Andrei Mărăşoiu":
METHOD:PUBLISH
END:VEVENT
END:VCALENDAR
