BEGIN:VCALENDAR
PRODID:-//Grails iCalendar plugin//NONSGML Grails iCalendar plugin//EN
VERSION:2.0
CALSCALE:GREGORIAN
METHOD:PUBLISH
BEGIN:VEVENT
DTSTAMP:20260420T001849Z
DTSTART;TZID=Europe/Bucharest:20220815T234500
DTEND;TZID=Europe/Bucharest:20220815T234500
SUMMARY:Kuhn 100
UID:20260423T011224Z-iCalPlugin-Grails@philevents-web-f5d4878dd-nv7xt
TZID:Europe/Bucharest
LOCATION:Splaiul Independenţei nr. 204\, Bucharest\, Romania\, 060024
DESCRIPTION:<p>The "Kuhn 100" conference is organized in partnership between the Faculty of Philosophy at the University of Bucharest (through its Department for Theoretical Philosophy) and the University's Research Institute (ICUB)\, specifically its Humanities Division.</p>\n<p>The event is scheduled to take place November 18-19\, 2022.&nbsp\;It will have a mixed format\, in that speakers may choose whether they present online only\, or face to face at the event's location (if so\, their session will enjoy a live audience\, but it will also be streamed to remote participants).</p>\n<p>Professors&nbsp\;Mircea Flonta\, Ilie P&acirc\;rvu\, Dana Jalobeanu\, Constantin Stoenescu\, and Mihnea Dobre (all from the University of Bucharest)\, Theodore Arabatzis (National and Kapodistrian University of Athens)\, Hanne Andersen (Copenhaga)\, Hasok Chang (Cambridge)\, Alexander Bird (Cambridge)\, and Lydia Patton (Virginia Tech) have already kindly agreed to give talks in the conference.</p>\n<p><strong>Call for abstract submission</strong></p>\n<p>If you would like to give a talk in the conference\, please send\, by August 15\, 2022\, midnight local time for Bucharest\, Romania\, a message to&nbsp\;kuhn100@filosofie.unibuc.ro\, bearing the title "abstract submission".</p>\n<p>The submitted abstract should be included as a .pdf or .docx attachment to your message\, and should be less than 300 words.Your personal data (name\, affiliation\, email\, preference for online or face-to-face presentation) should be included in the body of the message. Please keep the attached file's metadata\, title and abstract anonymous in order to ensure blind review.&nbsp\;</p>\n<p>For any questions\, please don't hesitate to contact us at&nbsp\;kuhn100@filosofie.unibuc.ro. We will be checking this inbox weekly.&nbsp\;We expect to be able to announce the conference programme in the first week of September.</p>\n<p>In the aftermath of the conference\, we would enjoy jointly exploring the possibility of publishing its proceedings. More details will be forthcoming at the time.</p>
ORGANIZER;CN="Andrei Mărăşoiu";CN=Mihnea Dobre:
METHOD:PUBLISH
END:VEVENT
END:VCALENDAR
