BEGIN:VCALENDAR
PRODID:-//Grails iCalendar plugin//NONSGML Grails iCalendar plugin//EN
VERSION:2.0
CALSCALE:GREGORIAN
METHOD:PUBLISH
BEGIN:VEVENT
DTSTAMP:20260423T073706Z
DTSTART;TZID=Australia/Adelaide:20230710T090000
DTEND;TZID=Australia/Adelaide:20230714T170000
SUMMARY:Space\, Time\, and Location
UID:20260428T221244Z-iCalPlugin-Grails@philevents-web-6b96c54f56-bljdq
TZID:Australia/Adelaide
LOCATION:National Wine Centre of Australia\, Adelaide\, Australia\, 5000
DESCRIPTION:<p>The metaphysics of persistence has obvious connections with the physics of matter. This workshop aims to bring together metaphysicians and philosophers of physics to explore foundational questions about spacetime\, material objects\, and the nature of locative relations between them. Speakers will explore the historical and conceptual dimensions of debates over topics including:</p>\n<ul>\n<li>The prospects of supersubstantivalism\, and the role of objects/particles in physical theory\;</li>\n<li>The nature of location in quantum mechanics\;</li>\n<li>The fundamentality of spacetime\, and the metaphysics of space and time\;</li>\n<li>The locative turn in the metaphysics of persistence\;</li>\n<li>The ontology of field theories\;</li>\n<li>The role of spacetime in formulations of quantum mechanics.</li>\n</ul>\n<p>Registration will be free but required for organisational purposes\, and in-person numbers are strictly limited due to room capacity and catering constraints. Please register via email to the organiser\; you will be contacted closer to the event with further details.</p>\n<p>This will be a hybrid event. All talks will be in-person\, taking place in&nbsp\;Adelaide/Tarndanya\,&nbsp\;on the unceded lands of the Kaurna people. We will also provide a livestream of the talks and discussion via Zoom for those who cannot or will not travel to the conference venue. If you wish to have access to the livestream please register your interest by emailing the organiser by 17:00 on July 9. Remote attendees will have the opportunity to participate in the Q&amp\;A.</p>\n<p>The workshop is part of the Australian Research Council funded project\,&nbsp\;<em>Everything in its Place.</em></p>
ORGANIZER;CN=Antony Eagle;CN=Shieva Kleinschmidt:
METHOD:PUBLISH
END:VEVENT
END:VCALENDAR
