BEGIN:VCALENDAR
PRODID:-//Grails iCalendar plugin//NONSGML Grails iCalendar plugin//EN
VERSION:2.0
CALSCALE:GREGORIAN
METHOD:PUBLISH
BEGIN:VEVENT
DTSTAMP:20260420T175554Z
DTSTART;TZID=America/Denver:20230222T090000
DTEND;TZID=America/Denver:20230225T170000
SUMMARY:Satellite Session of the Heidegger Circle of North America at the APA Central
UID:20260421T080300Z-iCalPlugin-Grails@philevents-web-f5d4878dd-nv7xt
TZID:America/Denver
LOCATION:1701 N California Street\, Denver\, United States\, 80202
ORGANIZER;CN=Jessica Elkayam:
METHOD:PUBLISH
END:VEVENT
END:VCALENDAR
