BEGIN:VCALENDAR
PRODID:-//Grails iCalendar plugin//NONSGML Grails iCalendar plugin//EN
VERSION:2.0
CALSCALE:GREGORIAN
METHOD:PUBLISH
BEGIN:VEVENT
DTSTAMP:20260420T162359Z
DTSTART;TZID=America/Denver:20230222T160000
DTEND;TZID=America/Denver:20230222T160000
SUMMARY:Satellite Session of the Heidegger Circle of North America at the APA Central
UID:20260421T024639Z-iCalPlugin-Grails@philevents-web-f5d4878dd-nv7xt
TZID:America/Denver
LOCATION:1701 N California Street\, Denver\, United States\, 80202
DESCRIPTION:<p>The Heidegger Circle of North America welcomes submissions on any topic in Heidegger scholarship for its annual Satellite Session at the Central APA (Denver\, February 2023). This is an open call\, so papers will be assessed irrespective of the author&rsquo\;s rank.<br><br>Please send submissions of no more than 4000 words (excluding notes) with a 250- to 500-word abstract included in the submission document. Prepare the entire document for blind review in .doc or .docx versions\, 2010 or later formats only. Please\, no PDF submissions. Submissions should be in 12-point font\, Times New Roman (or similar)\, 1&rdquo\; margins on all sides\, footnotes (10-point font)\, no endnotes. Justify block quotations.<br><br>Please include a separate cover sheet with your submission that specifies your contact information\, includes your abstract\, word count\, and three to five relevant keywords. Send your blinded manuscript and cover sheet to the selection committee at&nbsp\;HC.SatelliteSessions@gmail.com.<br><br>Deadline for submissions: September 10\, 2022. Papers delivered at Satellite Sessions may also be revised and submitted to the Circle&rsquo\;s journal\, Gatherings: The Heidegger Circle Annual. All questions regarding submissions and Satellite Sessions should be directed to Jessica Elkayam at this email address:&nbsp\;HC.SatelliteSessions@gmail.com.</p>
ORGANIZER;CN=Jessica Elkayam:
METHOD:PUBLISH
END:VEVENT
END:VCALENDAR
