BEGIN:VCALENDAR
PRODID:-//Grails iCalendar plugin//NONSGML Grails iCalendar plugin//EN
VERSION:2.0
CALSCALE:GREGORIAN
METHOD:PUBLISH
BEGIN:VEVENT
DTSTAMP:20260422T190240Z
DTSTART;TZID=Europe/London:20221112T170000
DTEND;TZID=Europe/London:20221112T180000
SUMMARY:The Wisdom of Live\, Laugh\, Love: Aesthetically Caused Epistemic Misjudgements and the Banality Objection to Cognitivism
UID:20260427T072633Z-iCalPlugin-Grails@philevents-web-6b96c54f56-bljdq
TZID:Europe/London
LOCATION:Faculty of Philosophy\, Oxford\, United Kingdom\, OX2 6GG
ORGANIZER;CN=Julian Ratcliffe;CN=Kyle van Oosterum;CN=Imogen Rivers;CN=Alexander Arridge;CN=Lewis Williams;CN=Tom Ralston;CN=Dom Mcguire:
METHOD:PUBLISH
END:VEVENT
END:VCALENDAR
