BEGIN:VCALENDAR
PRODID:-//Grails iCalendar plugin//NONSGML Grails iCalendar plugin//EN
VERSION:2.0
CALSCALE:GREGORIAN
METHOD:PUBLISH
BEGIN:VEVENT
DTSTAMP:20260424T082317Z
DTSTART;TZID=Europe/London:20230115T234500
DTEND;TZID=Europe/London:20230115T234500
SUMMARY:Special Issue on Environmental Philosophy - Diálogos: The Journal of the Department of Philosophy of the University of Puerto Rico
UID:20260424T175508Z-iCalPlugin-Grails@philevents-web-6b96c54f56-bljdq
TZID:Europe/London
DESCRIPTION:<p>Deadline extended: January 15th.</p>\n<p>Di&aacute\;logos is excited to announce a call for papers for a special issue on the topic of Environmental Philosophy to appear in the Winter of 2023.</p>\n<p>We invite paper submissions on any topic in environmental philosophy broadly construed.&nbsp\;Possible topics include sustainability\, the nature of wilderness\, the ethics of terraforming\, conservation &amp\; de-extinction\, environmental activism\, climate change\, wildlife\, environment and society\, Indigenous rights\, environmental aesthetics\, and environmental ethics in space.</p>\n<p>Environmental philosophy has reached an interesting stage in its history. Concerns about the environment and space have become much more pressing. Worries about how best to combat climat change are now center on the table. And the state of environmental activism - its methods and its aims - is arguably more important now than ever. We hope in this special issue to explore the frontiers of these and other topics in environmental philosophy\, a sort of "forward looking" issue. However\, more theoretical and historical papers will also be given full consideration\, especially those that take on a more meta-philosophical point of view. We are also excited to accept papers that look at specific real-world case studies.</p>\n<p>Submissions are welcome in both English and Spanish.</p>\n<p>Papers should be sent to dialogossi2023@gmail.com by January 15\, 2023. Decision of acceptance: February 20th. Final manuscripts due: May 20th. Articles should be in Word or PDF format. Please submit your paper prepared for blind review and include a title page in your email that includes your name\, email address\, paper title\, word count\, abstract\, and 4 to 6 keywords. Submissions cannot exceed 8\,000 words.</p>\n<p>Email dialogossi2023@gmail.com for questions or comments.</p>\n<p>***</p>\n<p>Di&aacute\;logos se complace en anunciar una convocatoria de art&iacute\;culos para un n&uacute\;mero especial sobre el tema de Filosof&iacute\;a Ambiental que aparecer&aacute\; en el invierno de 2023.</p>\n<p>Invitamos a enviar art&iacute\;culos sobre cualquier tema de filosof&iacute\;a ambiental. Los temas posibles incluyen la sostenibilidad\, la vida silvestre\, la &eacute\;tica de la terraformaci&oacute\;n\, la conservaci&oacute\;n y la extinci&oacute\;n\, el activismo y los m&eacute\;todos ambientales\, el cambio clim&aacute\;tico\, los derechos de la vida silvestre\, los derechose ind&iacute\;genas y la &eacute\;tica ambiental en el espacio exterior.</p>\n<p>Las presentaciones est&aacute\;n permitidas tanto en ingl&eacute\;s como en espa&ntilde\;ol.</p>\n<p>Enviar trabajos a dialogossi2023@gmail.com antes del 15 de enero de 2023. Decisi&oacute\;n de aceptaci&oacute\;n: 20 de febrero. Entrega de manuscritos finales: 20 de mayo. Los art&iacute\;culos deben estar en formato Word o PDF. Env&iacute\;e su art&iacute\;culo preparado para revisi&oacute\;n an&oacute\;nima e incluya una p&aacute\;gina de t&iacute\;tulo en su correo electr&oacute\;nico que incluya su nombre\, direcci&oacute\;n de correo electr&oacute\;nico\, t&iacute\;tulo del art&iacute\;culo\, recuento de palabras\, resumen y de 4 a 6 palabras clave. Las presentaciones no pueden exceder las 8\,000 palabras.</p>
ORGANIZER:
METHOD:PUBLISH
END:VEVENT
END:VCALENDAR
