BEGIN:VCALENDAR
PRODID:-//Grails iCalendar plugin//NONSGML Grails iCalendar plugin//EN
VERSION:2.0
CALSCALE:GREGORIAN
METHOD:PUBLISH
BEGIN:VEVENT
DTSTAMP:20260423T154641Z
DTSTART;TZID=Europe/London:20221115T180000
DTEND;TZID=Europe/London:20221115T200000
SUMMARY:Who's Afraid of Artificial Intelligence? On Being Human in a Digital Age
UID:20260429T224422Z-iCalPlugin-Grails@philevents-web-6b96c54f56-bljdq
TZID:Europe/London
LOCATION:Malet St\, London\, United Kingdom\, WC1E 7HU
DESCRIPTION:<p>The London Post-Kantian Seminar is pleased to present its inaugural Annual Public Talk.</p>\n<p>The talk will be given by Markus Gabriel (University of Bonn) and is entitled "Who's Afraid of Artificial Intelligence? On Being Human in a Digital Age".</p>\n<p>The talk will be held in Chancellor's Room at Senate House\, 6:00pm-7:45pm\, 15 November 2022\, and will be followed by a drinks reception. Everyone welcome!</p>\n<p>The talk is hosted by the London Post-Kantian Seminar (https://thelpks.weebly.com/) and is organized by Andrew Cooper (Andrew.J.Cooper@warwick.ac.uk) and G. Anthony Bruno (g.anthonybruno@gmail.com).</p>\n<p>Registration is required (and free) at the link below.</p>
ORGANIZER;CN=Andrew Cooper;CN=G. Anthony Bruno:
METHOD:PUBLISH
END:VEVENT
END:VCALENDAR
