BEGIN:VCALENDAR
PRODID:-//Grails iCalendar plugin//NONSGML Grails iCalendar plugin//EN
VERSION:2.0
CALSCALE:GREGORIAN
METHOD:PUBLISH
BEGIN:VEVENT
DTSTAMP:20260421T130255Z
DTSTART;TZID=America/New_York:20131018T100000
DTEND;TZID=America/New_York:20131020T180000
SUMMARY:First Annual Philosophers' Cocoon Philosophy Conference (PCPC)
UID:20260423T112321Z-iCalPlugin-Grails@philevents-web-6b96c54f56-bljdq
TZID:America/New_York
LOCATION:401 W. Kennedy Blvd.\, Tampa\, United States\, 33606
ORGANIZER;CN=Marcus Arvan:
METHOD:PUBLISH
END:VEVENT
END:VCALENDAR
