BEGIN:VCALENDAR
PRODID:-//Grails iCalendar plugin//NONSGML Grails iCalendar plugin//EN
VERSION:2.0
CALSCALE:GREGORIAN
METHOD:PUBLISH
BEGIN:VEVENT
DTSTAMP:20260421T154029Z
DTSTART;TZID=America/Los_Angeles:20230115T234500
DTEND;TZID=America/Los_Angeles:20230115T234500
SUMMARY:2nd Pan-American Symposium on the History of Logic
UID:20260423T185252Z-iCalPlugin-Grails@philevents-web-6b96c54f56-bljdq
TZID:America/Los_Angeles
LOCATION:Los Angeles\, United States
DESCRIPTION:<p>2nd Pan-American Symposium on the History of Logic</p>\n<p>Existence and Nonexistence&nbsp\;</p>\n<p>University of California\, Los Angeles</p>\n<p>June 20&ndash\;23\, 2023</p>\n<p>We are pleased to announce the second meeting of the Pan-American Symposium on the History of Logic\, to be held at the University of California\, Los Angeles (and online)\, from June 20&ndash\;23\, 2023.&nbsp\;</p>\n<p>The symposium is intended to bring together specialists from all over the world\, and in any academic discipline\, to share their research on any and all traditions in the history of logic\, from the distant to the recent past\, anywhere on the globe\, and in all linguistic contexts. Each meeting will focus on a chosen general theme central to logic\, with the aim of offering a comparative picture of that topic&rsquo\;s treatment throughout history. For information on the previous symposium\, see: https://philosophy.ucla.edu/event/pan-american-symposium/</p>\n<p>The theme for the upcoming meeting is Existence and Nonexistence. Topics may include existential import\, empty reference\, logical and linguistic puzzles involving fictional / imaginary beings\, modality and existence\, vacuous inference\, nominalism\, quantification\, negation\, contradiction\, and much more. We welcome approaches that draw connections between the logical and metaphysical treatments of these and related subjects.&nbsp\;</p>\n<p>This year&rsquo\;s event is dedicated to the memory of Terence Parsons\, who made groundbreaking contributions to the study of nonexistent objects and medieval logic. For a memorial notice\, see: https://philosophy.ucla.edu/in-memoriam-terence-parsons/</p>\n<p>We especially welcome submissions engaging directly with Parsons&rsquo\;s work.&nbsp\;</p>\n<p>The symposium will have a hybrid (in-person and online) format\, with all presentations live streamed through Zoom.&nbsp\;</p>\n<p>Those who wish to attend without presenting (whether in person or online) should register in advance by emailing the organizers at panamhistoryoflogic@gmail.com. Zoom links will be made available to all registered participants shortly before the event.&nbsp\;</p>\n<p>Those who wish to present should send proposals to panamhistoryoflogic@gmail.com as anonymous abstracts (maximum 500 words) and a separate title page by <u><strong>January 15\, 2023</strong></u>. The title page should include: title\, name\, institutional affiliation\, email\, and an indication of whether you would like to present in person or remotely.</p>\n<p>Presentations should be 30&ndash\;35 minutes long\, after which there will be a 10&ndash\;15 minute discussion.</p>\n<p>We particularly encourage submissions by scholars from underrepresented groups in academia and on underrepresented traditions or figures in the history of logic.</p>\n<p>We hope to communicate decisions by February 15\, 2023.</p>\n<p>Lodging will be provided for all in-person presenters. Some funding may be available to help defer travel costs.</p>\n<p>Selected papers will be considered for publication in a collected volume.</p>\n<p>For further information\, contact the organizers at panamhistoryoflogic@gmail.com. You may also contact us individually at:</p>\n<p>Graziana Ciola: graziana.ciola@ru.nl</p>\n<p>Milo Crimi: mcrimi@humnet.ucla.edu</p>\n<p>Calvin Normore: normore@humnet.ucla.edu</p>
ORGANIZER:
METHOD:PUBLISH
END:VEVENT
END:VCALENDAR
