BEGIN:VCALENDAR
PRODID:-//Grails iCalendar plugin//NONSGML Grails iCalendar plugin//EN
VERSION:2.0
CALSCALE:GREGORIAN
METHOD:PUBLISH
BEGIN:VEVENT
DTSTAMP:20260423T091906Z
DTSTART;TZID=Australia/Adelaide:20221216T090000
DTEND;TZID=Australia/Adelaide:20221216T090000
SUMMARY:Space\, Time\, and Location
UID:20260429T035010Z-iCalPlugin-Grails@philevents-web-6b96c54f56-bljdq
TZID:Australia/Adelaide
LOCATION:National Wine Centre of Australia\, Adelaide\, Australia\, 5000
DESCRIPTION:<p>We are now inviting proposals for presentations at the workshop&nbsp\;<em>Space\, Time and Location\,</em> to be held in Adelaide/Tarndanya July 10&ndash\;13\, 2023. The workshop is part of the Australian Research Council funded project\,&nbsp\;<em>Everything in its Place</em>.</p>\n<p>The metaphysics of persistence has obvious connections with the physics of matter. The workshop&nbsp\;aims to bring together metaphysicians and philosophers of physics to explore foundational questions about spacetime\, material objects\, and the nature of locative relations between them. Speakers will explore the historical and conceptual dimensions of debates over topics including:</p>\n<ul>\n<li>The prospects of supersubstantivalism\, and the role of objects/particles in physical theory\;</li>\n<li>The nature of location in quantum mechanics\;</li>\n<li>The fundamentality of spacetime\, and the metaphysics of space and time\;</li>\n<li>The locative turn in the metaphysics of persistence\;</li>\n<li>The ontology of field theories\;</li>\n<li>The role of spacetime in formulations of quantum mechanics.</li>\n</ul>\n<p>This will be an in-person event\, taking place on the unceded lands of the Kaurna people.</p>\n<p>We anticipate being able to offer 2&ndash\;4&nbsp\;slots to submitted presentations. Proposed papers should be able to be presented in no more than 45 minutes. Priority will be given to early-career researchers (current graduate students and those within 5 years post-PhD). We also anticipate being able to make a contribution to travel costs within Australia for accepted presenters.&nbsp\;</p>\n<p>Please submit proposals via email to Antony Eagle at antony.eagle@adelaide.edu.au. Your email should contain the following information:</p>\n<ol>\n<li>Title</li>\n<li>750&ndash\;1000 word detailed abstract</li>\n<li>Your contact details and institutional affiliation</li>\n<li>Details of ECR status\, if applicable.</li>\n</ol>\n<p>Submissions are due by December 16\, 2022\, and notification of successful submissions will be provided by February 1\, 2023.</p>
ORGANIZER;CN=Antony Eagle;CN=Cody Gilmore;CN=Shieva Kleinschmidt:
METHOD:PUBLISH
END:VEVENT
END:VCALENDAR
