BEGIN:VCALENDAR
PRODID:-//Grails iCalendar plugin//NONSGML Grails iCalendar plugin//EN
VERSION:2.0
CALSCALE:GREGORIAN
METHOD:PUBLISH
BEGIN:VEVENT
DTSTAMP:20260421T034945Z
DTSTART;TZID=Europe/Vilnius:20230622T090000
DTEND;TZID=Europe/Vilnius:20230624T170000
SUMMARY:Religious Faith and Meaning-Making
UID:20260422T054924Z-iCalPlugin-Grails@philevents-web-6b96c54f56-bljdq
TZID:Europe/Vilnius
LOCATION:Kretingos g. 36\, Klaipėda\, Lithuania\, 92307
DESCRIPTION:<p>Religious faith and its connection to meaning in life is a frequent object of study in the contemporary academy. It is studied in humanistic fields such as religious studies\, history\, and literature. It also occupies the attention of the social sciences\, including in fields such as sociology\, anthropology\, cognitive science\, and psychology. However\, the work in humanistic disciplines on faith and meaning are not always informed by our best and most up to date scientific knowledge. The purpose of this workshop is to bring together a multidisciplinary group of scholars in order to examine the role that faith plays in meaning-making from a scientifically informed perspective. We invite abstracts of up to 500 words on the question: What role can and does religious faith play when evaluating\, creating\, and living out one&rsquo\;s sense of meaning in life?</p>\n<p>This event will consist of a three-day workshop with presentations from schoalrs across philosophy\, theology\, and the social sciences.</p>
ORGANIZER:
METHOD:PUBLISH
END:VEVENT
END:VCALENDAR
