BEGIN:VCALENDAR
PRODID:-//Grails iCalendar plugin//NONSGML Grails iCalendar plugin//EN
VERSION:2.0
CALSCALE:GREGORIAN
METHOD:PUBLISH
BEGIN:VEVENT
DTSTAMP:20260421T015007Z
DTSTART;TZID=Europe/Vilnius:20230131T234500
DTEND;TZID=Europe/Vilnius:20230131T234500
SUMMARY:Religious Faith and Meaning-Making
UID:20260421T233854Z-iCalPlugin-Grails@philevents-web-6b96c54f56-bljdq
TZID:Europe/Vilnius
LOCATION:Kretingos g. 36\, Klaipėda\, Lithuania\, 92307
DESCRIPTION:<p><strong>Call for Papers</strong></p>\n<p><strong>Religious Faith and Meaning-Making</strong></p>\n<p><strong>LCC International University\, Lithuania </strong></p>\n<p><strong>June 22-24\, 2023</strong>&nbsp\;</p>\n<p>The Center for Faith and Human Flourishing at LCC International University\, Lithuania is pleased to announce a call for papers to participate in a workshop on faith and meaning-making\, to be held from June 22-24\, 2023 in Klaipeda\, Lithuania.</p>\n<p>Religious faith and its connection to meaning in life is a frequent object of study in the contemporary academy. It is studied in humanistic fields such as religious studies\, history\, and literature. It also occupies the attention of the social sciences\, including in fields such as sociology\, anthropology\, cognitive science\, and psychology. However\, the work in humanistic disciplines on faith and meaning are not always informed by our best and most up to date scientific knowledge. The purpose of this workshop is to bring together a multidisciplinary group of scholars in order to examine the role that faith plays in meaning-making from a scientifically informed perspective. We invite abstracts of up to 500 words on the question: What role can and does religious faith play when evaluating\, creating\, and living out one&rsquo\;s sense of meaning in life?</p>\n<p>Specific topics include\, but are not limited to:</p>\n<p>&middot\;&nbsp\;&nbsp\;&nbsp\;&nbsp\;&nbsp\;&nbsp\;&nbsp\;&nbsp\; The interaction between faith and meaning</p>\n<p>&middot\;&nbsp\;&nbsp\;&nbsp\;&nbsp\;&nbsp\;&nbsp\;&nbsp\;&nbsp\; How faith contributes to meaning</p>\n<p>&middot\;&nbsp\;&nbsp\;&nbsp\;&nbsp\;&nbsp\;&nbsp\;&nbsp\;&nbsp\; Scientifically informed approaches to faith and meaning</p>\n<p>&middot\;&nbsp\;&nbsp\;&nbsp\;&nbsp\;&nbsp\;&nbsp\;&nbsp\;&nbsp\; Connections between scientifically informed approaches and the philosophical or theological literature.</p>\n<p>&middot\;&nbsp\;&nbsp\;&nbsp\;&nbsp\;&nbsp\;&nbsp\;&nbsp\;&nbsp\; Empirical analyses of specific religious approaches to faith and meaning</p>\n<p>&middot\;&nbsp\;&nbsp\;&nbsp\;&nbsp\;&nbsp\;&nbsp\;&nbsp\;&nbsp\; Non-Western approaches to faith and meaning</p>\n<p>Empirically informed approaches are particularly welcomed.</p>\n<p><strong>Financial Considerations:</strong></p>\n<p>Up to 2 participants will be eligible for an award that includes 4 nights accommodations in addition to lunches and dinners on conference days (travel funds cannot be provided).</p>\n<p><strong>Publication Opportunity:</strong></p>\n<p>Appropriate papers may be selected for inclusion in a volume edited by <a href="https://www.kirklougheed.com/">Kirk Lougheed</a> (LCC International University/University of Pretoria) which will be submitted for consideration in Brill&rsquo\;s Value Inquiry Book Series.</p>\n<p><strong>Tentatively Confirmed Speakers Include:</strong></p>\n<p>Arbiah Attoe (University of Witwatersrand)</p>\n<p>Michael Cox (LCC International University)</p>\n<p>Laird Edman (Northwestern College)</p>\n<p>Joshua Harris (The King&rsquo\;s University)</p>\n<p>Liz Jackson (Toronto Metropolitan University)</p>\n<p>Kirk Lougheed (LCC International University/University of Pretoria)</p>\n<p>Myron A. Penner (Trinity Western University)</p>\n<p>Tricia van Dyk (LCC International University)</p>\n<p><strong>Submission:</strong></p>\n<p>Please submit an abstract of no more than 500 words\, along with your CV to Kirk Lougheed at&nbsp\; <a href="mailto:kirklougheed@philosophy.com">p</a>hilosophy@kirklougheed.com by January 31\, 2023.</p>\n<p><strong>Contact:</strong></p>\n<p>philosophy@kirklougheed.com</p>\n<p>This workshop is generously funded by an Initiative Grant from the <a href="https://www.cccu.org/">CCCU</a>.</p>
ORGANIZER:
METHOD:PUBLISH
END:VEVENT
END:VCALENDAR
