BEGIN:VCALENDAR
PRODID:-//Grails iCalendar plugin//NONSGML Grails iCalendar plugin//EN
VERSION:2.0
CALSCALE:GREGORIAN
METHOD:PUBLISH
BEGIN:VEVENT
DTSTAMP:20260423T022724Z
DTSTART;TZID=Asia/Singapore:20230120T234500
DTEND;TZID=Asia/Singapore:20230120T234500
SUMMARY:Philosophy in Southeast Asia Conference
UID:20260428T081501Z-iCalPlugin-Grails@philevents-web-6b96c54f56-bljdq
TZID:Asia/Singapore
LOCATION:Singapore\, Singapore
DESCRIPTION:<p><u><strong>CALL FOR ABSTRACTS</strong></u></p>\n<p>Philosophers in Southeast Asia contribute to various philosophical areas and traditions\, like aesthetics\, Asian and comparative philosophy\, epistemology\, feminist philosophy\, ethics\, logic\, metaphysics\, philosophy of language\, political philosophy\, etc. Moreover\, they have published quality papers in these fields. This conference aims to bring together these philosophers to share their research and discuss common interests. We also invite philosophers from other parts of the world to join in the vibrant philosophy in Southeast Asia.&nbsp\;</p>\n<p><strong>Conference Details</strong></p>\n<p>Venue: National University of Singapore&nbsp\;</p>\n<p>Dates: May 1-3\, 2023</p>\n<p><strong>Important Dates</strong></p>\n<p>January 20\, 2023: Deadline for submission of abstracts</p>\n<p>February 1\, 2023: Acceptance notification</p>\n<p>May 1\, 2023: Welcome dinner</p>\n<p>May 2-3 2023: Conference proper</p>\n<p>Slots for paper presenters are limited. (Please note that we can't offer travel bursaries\, so it is up to the presenters to secure their own funds.)</p>\n<p>During the conference dates\, light snacks will be served in the morning and afternoon. Lunch will be at the expense of the presenters. There are no registration fees but 70SGD will be collected from those who wish to join the welcome dinner.</p>\n<p><strong>Submit your abstract though the link:</strong></p>
ORGANIZER;CN=Hazel T. Biana;CN=Ben Blumson;CN=Jeremiah Joven Joaquin;CN=Soraj Hongladarom:
METHOD:PUBLISH
END:VEVENT
END:VCALENDAR
