BEGIN:VCALENDAR
PRODID:-//Grails iCalendar plugin//NONSGML Grails iCalendar plugin//EN
VERSION:2.0
CALSCALE:GREGORIAN
METHOD:PUBLISH
BEGIN:VEVENT
DTSTAMP:20260421T123741Z
DTSTART;TZID=America/New_York:20230205T234500
DTEND;TZID=America/New_York:20230205T234500
SUMMARY:3rd Annual Philosophical Bioethics Workshop
UID:20260423T095308Z-iCalPlugin-Grails@philevents-web-6b96c54f56-bljdq
TZID:America/New_York
LOCATION:708 Broadway\, New York\, United States\, 10003
DESCRIPTION:<p>The New York University Center for&nbsp\;Bioethics&nbsp\;is pleased to invite submissions of abstracts for the 3rd Annual Philosophical&nbsp\;Bioethics Workshop\, to be held at NYU on Friday and Saturday\, April 28-29\, 2023.</p>\n<p>We are seeking to showcase new&nbsp\;work&nbsp\;in philosophical&nbsp\;bioethics\, broadly understood. This includes (but is not limited to) neuroethics\, environmental&nbsp\;ethics\, animal&nbsp\;ethics\, reproductive&nbsp\;ethics\, research&nbsp\;ethics\,&nbsp\;ethics&nbsp\;of AI\, data&nbsp\;ethics\, public health&nbsp\;ethics\, gender and race in&nbsp\;bioethics\, and clinical&nbsp\;ethics.</p>\n<p>Our distinguished keynote speaker will be Professor Ruth Chang\, University of Oxford. There will be five additional slots for papers chosen from among the submitted abstracts\, including one slot set aside for a graduate student speaker. The most promising graduate student submission will be awarded a Graduate Prize\, which includes an award of $500\, and may include coverage of travel expenses\, depending upon university policies at the time of the award. Please indicate in your submission email whether you would like to be considered for the Graduate Prize.</p>\n<p>Please submit extended abstracts of between 750 and 1\,000 words to&nbsp\;philosophicalbioethics@gmail.com&nbsp\;by 11:59 pm Eastern Time on Sunday\, February 5\, 2023. Abstracts should be formatted for blind review\, and papers should be suitable for presentation in 30-35 minutes. Email notifications of acceptance will be sent out by Friday\, February 24\, 2023.</p>\n<p>When submitting your abstract\, please also indicate whether you would be interested in serving as a commentator-chair in the event that your abstract is not selected for presentation. We will be inviting five additional participants to serve as commentator-chairs.</p>\n<p>This year&rsquo\;s Philosophical&nbsp\;Bioethics&nbsp\;Workshop&nbsp\;is organized by S. Matthew Liao\, Daniel Fogal\, Claudia Passos-Ferreira\, Stephanie Beardman\, Dan Khokar\, and Jonathan Knutzen of the NYU Center for&nbsp\;Bioethics.</p>
ORGANIZER;CN=S. Matthew Liao;CN=Claudia Passos-Ferreira;CN=Stephanie Beardman;CN=Jonathan Knutzen:
METHOD:PUBLISH
END:VEVENT
END:VCALENDAR
