BEGIN:VCALENDAR
PRODID:-//Grails iCalendar plugin//NONSGML Grails iCalendar plugin//EN
VERSION:2.0
CALSCALE:GREGORIAN
METHOD:PUBLISH
BEGIN:VEVENT
DTSTAMP:20260420T024511Z
DTSTART;TZID=Europe/London:20130531T100000
DTEND;TZID=Europe/London:20130601T180000
SUMMARY:Cambridge Platonism: Reception and Influence
UID:20260423T110531Z-iCalPlugin-Grails@philevents-web-f5d4878dd-nv7xt
TZID:Europe/London
LOCATION:Cambridge\, United Kingdom
DESCRIPTION:<p>The program will run as follows:<br><br>DAY 1:&nbsp\;May 31st&nbsp\;(1pm - 6pm)<br><br>Michael Gill - "Whichcote and Cudworth on Religious Tolerance and the Readmission of the Jews"<br><br>Nick Fisher - "The influence of John Smith's 'noble intellect and generous Christian faith' upon Simon Patrick (1626-1707)"<br><br>Luisa Simonutti - "Consciousness and identity : Locke and Cudworth"<br><br>Isabel Rivers - "The promotion of the Cambridge Platonists by some clerics and ministers from the later seventeenth to the early nineteenth centuries: Gilbert Burnet\, Henry Scougal\, William Wishart\, John Wesley\, Richard Price\, Alexander Knox\, John Jebb"<br><br><br>DAY 2: June 1st (9am - 6pm)<br><br>Thomas Fedrick-Illsley - "Samuel Clarke and the Cambridge Platonists"<br><br>Friedrich Uehlein - "Whichcote\, Shaftesbury and Deism"<br><br>Louise Hickman - "Deiform reason: The Cambridge Platonists and Eighteenth Century Dissenting Thought"<br><br>Sylvana Tomaselli - "Reflections on Love in the political writings of Wollstonecraft"<br><br>Derek Michaud - "John Smith's Lasting Influence: The Transatlantic Reception of a 'Living Library'"<br><br>James Vigus - ""This is not quite fair\, Master More!": Coleridge's Encounters with the Cambridge Platonists"<br><br>Philippe Barthelet - "Entre th&eacute\;odic&eacute\;e et apolog&eacute\;tique\, Platon comme &laquo\; pr&eacute\;face humaine de l'&Eacute\;vangile &raquo\; : Joseph de Maistre et Simone Weil dans le sillage ouvert par Cudworth"<br><br>Russell Manning - "The Irrelevance and Relevance of Cambridge Platonism for Twentieth-Century Theology"<br><br>Although the workshop is free to attend\, we have no provision for attendee travel costs\, accommodation or meals. This workshop is part of a larger project\, 'Revisioning Cambridge Platonism'.</p>\n<p>________________________________________<br><br><br>REVISIONING CAMBRIDGE PLATONISM<br><br>The work of the Cambridge Platonists has been gravely neglected due to a combination of scholarly misapprehensions\, a lack of accessible textbooks\, and good critical editions of their major works. The central aim of this interdisciplinary project is to begin addressing this neglect by bringing together the major established UK and overseas researchers as well as early career academics who work on\, or have a close interest in\, Cambridge Platonism. This will advance research on this pivotal intellectual movement. These discussions will take place at a series of workshops at Clare College\, Cambridge. Contributors will be drawn from the disciplines of Philosophy\, Theology/Religious Studies\, and English Literature. Topics covered by the project will include\, but not be limited to\, the formation and sources of Cambridge Platonism\, their key philosophical and religious ideas\, and their reception in the areas of (i) aesthetics\; (ii) ethics\; (iii) metaphysics (iv) early-modern women's writing\; (v) secularisation and the origins of atheism.<br><br>The project is funded by the Arts and Humanities Research Council.<br><br>For queries\, please contact Emily Thomas on&nbsp\;aeet2@cam.ac.uk</a>&nbsp\;or David Leech on&nbsp\;dl240@cam.ac.uk</a></p>
ORGANIZER:
METHOD:PUBLISH
END:VEVENT
END:VCALENDAR
