BEGIN:VCALENDAR
PRODID:-//Grails iCalendar plugin//NONSGML Grails iCalendar plugin//EN
VERSION:2.0
CALSCALE:GREGORIAN
METHOD:PUBLISH
BEGIN:VEVENT
DTSTAMP:20260424T184558Z
DTSTART;TZID=America/New_York:20131101T090000
DTEND;TZID=America/New_York:20131103T170000
SUMMARY:Sanders Conference on Philosophy of Perception
UID:20260425T213646Z-iCalPlugin-Grails@philevents-web-6b96c54f56-bljdq
TZID:America/New_York
LOCATION:Princeton\, United States
ORGANIZER:
METHOD:PUBLISH
END:VEVENT
END:VCALENDAR
