BEGIN:VCALENDAR
PRODID:-//Grails iCalendar plugin//NONSGML Grails iCalendar plugin//EN
VERSION:2.0
CALSCALE:GREGORIAN
METHOD:PUBLISH
BEGIN:VEVENT
DTSTAMP:20260421T141225Z
DTSTART;TZID=America/New_York:20140317T090000
DTEND;TZID=America/New_York:20140318T130000
SUMMARY:Locke Workshop
UID:20260423T144742Z-iCalPlugin-Grails@philevents-web-6b96c54f56-bljdq
TZID:America/New_York
LOCATION:Bronx\, United States
DESCRIPTION:<p><strong><u>Monday March 17\, 2014</u></strong></p>\n<p><strong>9:45-10:00:</strong>&nbsp\;Check-in</p>\n<p><strong>10:00- 11:00:</strong></p>\n<p>Patricia Sheridan\, University of Guelph: &ldquo\;Locke&rsquo\;s Latitudinarian Sympathies.&rdquo\;</p>\n<p>Commentator: Ruth Boeker\, University at Albany &ndash\; State University of New York</p>\n<p><strong>11:15-12:15:</strong></p>\n<p>Elliot Rossiter\, University of Western Ontario: &ldquo\;Hedonism and Natural Law in Locke&rsquo\;s Moral Philosophy.&rdquo\;</p>\n<p>Commentator: Antonia LoLordo\, University of Virginia</p>\n<p>Chair for Morning Sessions: Benjamin Hill\, University of Western Ontario</p>\n<p><strong>12:30-1:30:</strong>&nbsp\;Lunch (provided)</p>\n<p><strong>1:45-2:45:</strong></p>\n<p>Julie Walsh\, Universit&eacute\; du Qu&eacute\;bec &agrave\; Montr&eacute\;al: &ldquo\;Locke&rsquo\;s Grudge Against Malebranche.&rdquo\;</p>\n<p>Commentator: Benjamin Hill\, University of Western Ontario</p>\n<p><strong>3:00 &ndash\; 4:00:</strong></p>\n<p>Shelley Weinberg\, University of Illinois at Urbana-Champaign: &ldquo\;Consciousness and Moral Motivation in Locke.&rdquo\;</p>\n<p>Commentator: Martha Brandt Bolton\, Rutgers University</p>\n<p>Chair for Afternoon Sessions: Jessica Gordon-Roth\, City University of New York\, Lehman College</p>\n<p><strong><u><br></u></strong></p>\n<p><strong><u>Tuesday March 18\, 2014</u></strong></p>\n<p><strong>9:45-10:00:&nbsp\;</strong>Check-in</p>\n<p><strong>10:00 &ndash\; 11:00:</strong></p>\n<p>Joseph Stenberg\, University of Colorado at Boulder: &ldquo\;Locke on Individuation and Kinds&rdquo\;</p>\n<p>Commentator: Jessica Gordon-Roth\, City University of New York\, Lehman College</p>\n<p><strong>11:15&ndash\;12:15:</strong></p>\n<p>Edwin McCann\, University of Southern California: &ldquo\;Essences and the Kinds of Substance.&rdquo\;</p>\n<p>Commentator: Dan Kaufman\, University of Colorado at Boulder</p>\n<p>Chair for Morning Sessions: Benjamin Hill\, University of Western Ontario</p>\n<p><strong>12:30 &ndash\; 1:30:</strong>&nbsp\;&nbsp\;Lunch (provided)</p>\n<p><strong>1:30-2:45:</strong>&nbsp\;Keynote - Kenneth Winkler\, Yale University: &ldquo\;Locke on the Social Construction of Kinds.&rdquo\;</p>\n<p>Session Chair: Jessica Gordon-Roth\, City University of New York\, Lehman College&nbsp\;</p>\n<p>&nbsp\; *For those not on the Program\, but who are interested in joining us March 17-18\, please be in touch with Jessica to register (Jessica (dot) GordonRoth (at) lehman (dot) cuny (dot) edu).&nbsp\; Registration will close March 10.&nbsp\; <br> <br> More information about the Locke Workshop\, registration fee\, etc can be found on the Locke Workshop site:</p>
ORGANIZER:
METHOD:PUBLISH
END:VEVENT
END:VCALENDAR
