BEGIN:VCALENDAR
PRODID:-//Grails iCalendar plugin//NONSGML Grails iCalendar plugin//EN
VERSION:2.0
CALSCALE:GREGORIAN
METHOD:PUBLISH
BEGIN:VEVENT
DTSTAMP:20260423T054505Z
DTSTART;TZID=Europe/Vienna:20230416T000000
DTEND;TZID=Europe/Vienna:20230416T000000
SUMMARY:The Quantum Reconstruction Program and Beyond
UID:20260428T160713Z-iCalPlugin-Grails@philevents-web-6b96c54f56-bljdq
TZID:Europe/Vienna
LOCATION:Graz\, Austria
DESCRIPTION:<p><strong>Submission details</strong></p>\n\n<p><a name="__DdeLink__833_2036599875"></a> Submissions should not exceed 500 words\, must be written in English (conference language)\, and should be prepared for blind review. Please send your submissions and general inquiries to philipp.berghofer@uni-graz.at. Women and members of other traditionally underrepresented groups are especially encouraged to apply.</p>\n\n<p>The submission deadline is <strong>April 16\, 2023</strong>.</p>\n\n<p>The workshop will be an <strong>in-person event</strong>.</p>\n\n\n\n<p><strong>Conference summary</strong></p>\n\n<p>The program of reconstructing quantum theory emerged at the turn of the millennium as a consequence of the booming interest in quantum information. The idea is that progress in our understanding of quantum mechanics can be achieved by deriving the quantum formalism from physical principles. This is to say that instead of treating the quantum formalism as a given and interpreting the <em>mathematics</em>\,we should be looking for underlying <em>physical</em> principles. By now\, there exist several successful reconstructions. Typically\, they are formulated in an <em>operational</em> framework\, deriving the quantum formalism from <em>information-theoretic</em> principles. The aim of this workshop is to reflect on the philosophical implications of such informational reconstructions\, to discuss how the reconstruction program should evolve\, and to find synergies to other areas in physics and philosophy that do not explicitly engage in reconstructions.</p>\n<p>Topics and questions we want to discuss include but are not limited to:</p>\n<p><strong>1. The relationship between interpretation and reconstruction.</strong> Are reconstructions themselves in need of interpretation? Are certain reconstructions particularly (in-)consistent with prominent interpretations? For instance\, how does the operational framework square with the popular &ldquo\;interpretations without observers&rdquo\; that seek to eliminate the notion of measurement from the quantum formalism?</p>\n<p><strong>2. The concept of information.</strong> Information for whom and information about what? Should the notion of information be treated as an irreducible component of the quantum formalism? Should information be understood in an ontological sense? Finally\, should interpretations that deny that the quantum state represents (our knowledge of) objective reality seek reconstructions that are formulated in terms of non-factive mental states such as belief and experience?</p>\n<p><strong>3. Synergies.</strong> Can researchers working on classical physics\, general relativity\, quantum gravity\, or metaphysics benefit from insights of the quantum reconstruction program and vice versa?</p>\n
ORGANIZER;CN=Philip Goyal:
METHOD:PUBLISH
END:VEVENT
END:VCALENDAR
