BEGIN:VCALENDAR
PRODID:-//Grails iCalendar plugin//NONSGML Grails iCalendar plugin//EN
VERSION:2.0
CALSCALE:GREGORIAN
METHOD:PUBLISH
BEGIN:VEVENT
DTSTAMP:20260423T165013Z
DTSTART;TZID=Europe/Dublin:20230228T180000
DTEND;TZID=Europe/Dublin:20230228T180000
SUMMARY:New Approaches to Legal Ontology
UID:20260430T020709Z-iCalPlugin-Grails@philevents-web-6b96c54f56-bljdq
TZID:Europe/Dublin
LOCATION:Cork\, Ireland
DESCRIPTION:<p>The workshop <em>New Approaches to Legal Ontology</em> will be held in person on the 26th and 27th April\, 2023 at UCC\, Cork. The aim of the workshop is to create an interdisciplinary opportunity for legal philosophers and social ontologists to discuss together new approaches to legal ontology. By asking the participants to consider fundamental questions\, such as <em>what kind of entities are legal rules\, legal organisations\, and legal systems?</em>&nbsp\;and <em>how can we account for their existence?</em>\, the workshop will provide the best forum for the application of general theories of artifacts\, group agency\, institutional reality\, and social (meta)metaphysics to prominent debates within analytic jurisprudence.</p>\n<p><strong>Confirmed speakers:<br></strong>&Aring\;sa Burman (Philosophy\, Stockholm University) <br>Kenneth Ehrenberg (Law\, University of Surrey) <br>Ann Whittle (Philosophy\, University of Manchester) <br>Corrado Roversi (Law\, University of Bologna) <br>Teresa Marques (Philosophy\, University of Barcelona) <br>Adam Dyrda (Law\, Jagiellonian University) <br>Antonia Waltermann (Law\, Maastricht University) <br>Michael Schmitz (Philosophy\, University of Vienna) <br>Zuzanna Krzykalska (Law\, Jagiellonian University) <br>Miguel Garcia (Philosophy\, University College Cork).</p>\n<p>A few spaces are still available - PhDs and ECRs working at the intersection of legal philosophy and social ontology are strongly encouraged to submit an abstract for consideration. <br> <strong></strong></p>\n<p><strong>Submission guidelines:</strong> please send your abstract (300-500 words) suitable for a 30-40 mins presentation to miguel.garci@outlook.com by February 28 (18.00hrs GMT). Authors of selected abstracts will be notified by the 6th of March. <br> <strong></strong></p>\n<p><strong>Organiser:</strong> Miguel Garcia\, UCC Philosophy.</p>\n<p>Thanks to the financial support of the International Social Ontology Society and the Irish Research Council\, all speakers will have their accommodation covered during the event. However\, each participant will have to arrange their own travel.&nbsp\;If you have any further questions\, please contact the organiser at miguel.garci@outlook.com</p>
ORGANIZER;CN=Miguel Garcia-Godinez:
METHOD:PUBLISH
END:VEVENT
END:VCALENDAR
