BEGIN:VCALENDAR
PRODID:-//Grails iCalendar plugin//NONSGML Grails iCalendar plugin//EN
VERSION:2.0
CALSCALE:GREGORIAN
METHOD:PUBLISH
BEGIN:VEVENT
DTSTAMP:20260419T200647Z
DTSTART;TZID=Europe/Vienna:20230511T090000
DTEND;TZID=Europe/Vienna:20230513T170000
SUMMARY:Second Salzburg Workshop on Imagistic Cognition
UID:20260422T043320Z-iCalPlugin-Grails@philevents-web-f5d4878dd-nv7xt
TZID:Europe/Vienna
LOCATION:Mönchsberg 2\, Salzburg\, Austria\, 5020
DESCRIPTION:<p>The Department of Philosophy (Faculty of Social Sciences) of the University of Salzburg will host a workshop on imagistic cognition\, May 11-13\, 2023.&nbsp\; The workshop will feature speakers from philosophy\, psychology and neuroscience\, whose work has relevance to the nature of problem-solving by means of mental imagery.</p>\n<p>There will be no contributed papers\, but all events will be free and open to the public\, and visitors will be welcome to attend. All talks will be held in person.&nbsp\; This will not be an on-line or hybrid event. If you would like to attend the workshop\, please send an email to Prof. Christopher Gauker (christopher.gauker@plus.ac.at).</p>\n<p>The workshop is funded by a grant from the FWF Austrian Science Fund for Project I 3517-G24\, The Puzzle of Imagistic Cognition (Christopher Gauker\, PI)\, which is part of a joint project together with the Belgian FWO (Bence Nanay\, PI).</p>
ORGANIZER;CN=Christopher Gauker;CN=Bence Nanay:
METHOD:PUBLISH
END:VEVENT
END:VCALENDAR
