BEGIN:VCALENDAR
PRODID:-//Grails iCalendar plugin//NONSGML Grails iCalendar plugin//EN
VERSION:2.0
CALSCALE:GREGORIAN
METHOD:PUBLISH
BEGIN:VEVENT
DTSTAMP:20260421T181920Z
DTSTART;TZID=Europe/London:20230413T090000
DTEND;TZID=Europe/London:20230415T170000
SUMMARY:AISB 2023 Convention
UID:20260424T015802Z-iCalPlugin-Grails@philevents-web-6b96c54f56-bljdq
TZID:Europe/London
LOCATION:Swansea\, United Kingdom
ORGANIZER:
METHOD:PUBLISH
END:VEVENT
END:VCALENDAR
