BEGIN:VCALENDAR
PRODID:-//Grails iCalendar plugin//NONSGML Grails iCalendar plugin//EN
VERSION:2.0
CALSCALE:GREGORIAN
METHOD:PUBLISH
BEGIN:VEVENT
DTSTAMP:20260423T044629Z
DTSTART;TZID=Europe/Lisbon:20230612T100000
DTEND;TZID=Europe/Lisbon:20230614T170000
SUMMARY:Open Topics in Philosophy of Physics
UID:20260428T122732Z-iCalPlugin-Grails@philevents-web-6b96c54f56-bljdq
TZID:Europe/Lisbon
LOCATION:Alameda da Universidade\, 1600-214\, Lisbon\, Portugal
DESCRIPTION:<p>Three-day international conference in philosophy of physics</p>
ORGANIZER:
METHOD:PUBLISH
END:VEVENT
END:VCALENDAR
