BEGIN:VCALENDAR
PRODID:-//Grails iCalendar plugin//NONSGML Grails iCalendar plugin//EN
VERSION:2.0
CALSCALE:GREGORIAN
METHOD:PUBLISH
BEGIN:VEVENT
DTSTAMP:20260423T172510Z
DTSTART;TZID=Europe/Berlin:20230724T090000
DTEND;TZID=Europe/Berlin:20230729T170000
SUMMARY:Summer School on the History of Space in Mathematics and Physics
UID:20260430T034213Z-iCalPlugin-Grails@philevents-web-6b96c54f56-bljdq
TZID:Europe/Berlin
LOCATION:Leipzig\, Germany
ORGANIZER:
METHOD:PUBLISH
END:VEVENT
END:VCALENDAR
