BEGIN:VCALENDAR
PRODID:-//Grails iCalendar plugin//NONSGML Grails iCalendar plugin//EN
VERSION:2.0
CALSCALE:GREGORIAN
METHOD:PUBLISH
BEGIN:VEVENT
DTSTAMP:20260423T160327Z
DTSTART;TZID=Europe/Berlin:20230327T230000
DTEND;TZID=Europe/Berlin:20230327T230000
SUMMARY:Summer School on the History of Space in Mathematics and Physics
UID:20260429T234230Z-iCalPlugin-Grails@philevents-web-6b96c54f56-bljdq
TZID:Europe/Berlin
LOCATION:Leipzig\, Germany
DESCRIPTION:<p>Please follow the instruction of the Summer School webpage to apply to the Summer School. The MPI offers access to the School\, lodging in Leipzig\, all lunches\, and (partial) reimbursement of the travel expenses.</p>
ORGANIZER;CN=Vincenzo De Risi:
METHOD:PUBLISH
END:VEVENT
END:VCALENDAR
