BEGIN:VCALENDAR
PRODID:-//Grails iCalendar plugin//NONSGML Grails iCalendar plugin//EN
VERSION:2.0
CALSCALE:GREGORIAN
METHOD:PUBLISH
BEGIN:VEVENT
DTSTAMP:20260420T190338Z
DTSTART;TZID=Asia/Tokyo:20230627T230000
DTEND;TZID=Asia/Tokyo:20230627T233000
SUMMARY:Permissive Meaning Pluralism
UID:20260420T195854Z-iCalPlugin-Grails@philevents-web-6b96c54f56-bljdq
TZID:Asia/Tokyo
LOCATION:Sendai-shi\, Japan
DESCRIPTION:<p><strong>Sponsor:</strong></p>\n<p>Japan Society for the Promotion of Science\, Japan</p>\n<p><strong>Organisers:</strong></p>\n<p>&middot\;&nbsp\;&nbsp\;&nbsp\;&nbsp\;&nbsp\;&nbsp\; <a href="https://www.nhhumanities.org/programs/teacher/91/kiki-berk">Kiki Berk</a>\, Southern New Hampshire University</p>\n<p>&middot\;&nbsp\;&nbsp\;&nbsp\;&nbsp\;&nbsp\;&nbsp\; <a href="https://philpeople.org/profiles/nobuo-kurata">Nobuo&nbsp\;Kurata</a><u>\,</u> Hokkaido University</p>\n<p>&middot\;&nbsp\;&nbsp\;&nbsp\;&nbsp\;&nbsp\;&nbsp\; <a href="https://philpeople.org/profiles/iddo-landau">Iddo Landau</a><u>\,</u> University of Haifa</p>\n<p>&middot\;&nbsp\;&nbsp\;&nbsp\;&nbsp\;&nbsp\;&nbsp\; <a href="https://philpeople.org/profiles/thaddeus-metz">Thaddeus&nbsp\;Metz</a><u>\,</u> University of Pretoria</p>\n<p>&middot\;&nbsp\;&nbsp\;&nbsp\;&nbsp\;&nbsp\;&nbsp\; <a href="https://philpeople.org/profiles/masahiro-morioka">Masahiro&nbsp\;Morioka</a><u>\,</u> Waseda University</p>\n<p>&middot\;&nbsp\;&nbsp\;&nbsp\;&nbsp\;&nbsp\;&nbsp\; <a href="https://philpeople.org/profiles/tatsuya-murayama">Tatsuya&nbsp\;Murayama</a><u>\,</u> Tohoku University</p>\n<p>&middot\;&nbsp\;&nbsp\;&nbsp\;&nbsp\;&nbsp\;&nbsp\; <a href="https://philpeople.org/profiles/yujin-nagasawa">Yujin&nbsp\;Nagasawa</a><u>\,</u> University of Birmingham</p>\n<p>&middot\;&nbsp\;&nbsp\;&nbsp\;&nbsp\;&nbsp\;&nbsp\; <a href="https://www.scrippscollege.edu/academics/faculty/profile/rivka-weinberg">Rivka Weinberg</a><u>\,</u> Scripps College</p>\n<p><strong>Keynote speakers:</strong></p>\n<p><a href="https://ethics.harvard.edu/people/frances-m-kamm">Frances Kamm</a>\, Rutgers University</p>\n<p>Other Keynotes to be confirmed</p>\n<p><strong>Details:</strong></p>\n<p>Meaning in life is one of the most fundamental philosophical problems\, discussed for centuries but having acquired considerable depth in English-speaking philosophy over the past 30 years. Is there any meaning in life? If so\, how can we find it? Can life be meaningful if death is the ultimate end of our existence? How is meaning related to well-being and happiness? What are the moral implications of philosophical debates on meaning in life? Can life be objectively meaningful\, or can it only be subjectively meaningful? What are the links between God and meaning? What do we mean by &lsquo\;meaning&rsquo\; in the first place?</p>\n<p>The aim of the conference is to address these fundamental questions from a wide range of philosophical perspectives\, including both western and non-western traditions. Potential topics could include\, but are not limited to: theoretical approaches to meaning in/of life\; the relationship between death and meaning\; anti-natalism and nihilism\; procreation and extinction\; spiritual\, religious\, and psychological implications of meaning\; linguistic\, metaphysical\, and epistemological issues concerning meaning\; meaning in applied ethics\, such as bioethics\, environmental ethics\, and transhumanism\; the roles of narrative\, identity\, and agency\; comparative accounts of meaning in religio-philosophical traditions around the world\; implications of meaning for health\, well-being\, or virtue.</p>\n<p><strong>Call for papers: </strong></p>\n<p>We invite submissions concerning meaning in/of life as considered in the field of philosophy. Please send an abstract of approximately 500 words (excluding any references)\, prepared for blind review\, to <a href="mailto:philosophymeaninglife@gmail.com">philosophymeaninglife@gmail.com</a>.</p>\n<p><strong>Deadline:</strong>&nbsp\;31 January 2023</p>\n<p><strong>Notification:</strong> Applicants will be notified of the result via email by mid-March 2023.</p>\n<p><strong>Publication: </strong>Speakers are encouraged to submit their papers in a special issue of the Journal of Philosophy of Life. The submission deadline is 31 October 2023. The publication will be in the first half of 2024.</p>\n<p><strong>Time for presentation: </strong>50 minutes for live presentations (roughly 20-25 minutes for talk and the rest for discussion).</p>\n<p><strong>Format of presentation: &nbsp\;</strong>Online via Zoom and also Slack. Some talks will be pre-recorded\, while others will be live.</p>\n<p><strong>Official language: </strong>English</p>\n<p><strong>Registration: </strong>Will conference registration be required?&nbsp\;Yes\, but accepted presenters will be notified closer to the time.</p>\n<p>For questions\, please email: <a href="mailto:philosophymeaninglife@gmail.com">philosophymeaninglife@gmail.com</a></p>
ORGANIZER;CN=Tatsuya Murayama:
METHOD:PUBLISH
END:VEVENT
END:VCALENDAR
