BEGIN:VCALENDAR
PRODID:-//Grails iCalendar plugin//NONSGML Grails iCalendar plugin//EN
VERSION:2.0
CALSCALE:GREGORIAN
METHOD:PUBLISH
BEGIN:VEVENT
DTSTAMP:20260420T140344Z
DTSTART;TZID=Australia/Melbourne:20130808T171500
DTEND;TZID=Australia/Melbourne:20130808T191500
SUMMARY:The Indispensability of Modals
UID:20260420T200232Z-iCalPlugin-Grails@philevents-web-f5d4878dd-nv7xt
TZID:Australia/Melbourne
LOCATION:Arts West 115: Prest Theatrette\, Melbourne\, Australia
DESCRIPTION:<p>Abstract: Indispensability arguments seek to establish the truth of some body of claims based on the involvement of those claims in science. Standard indispensability arguments are aimed at establishing the truth of mathematical claims. I mount an indispensability argument for the truth of modal claims. The argument focuses on explanatory power: we should believe modal claims because they play an indispensable explanatory role in science. The indispensability argument for modals is targeted at modal fictionalists and modal agnostics. The former explicitly deny the truth of modal claims\, while the latter maintain that we cannot know whether modal claims are true or not. </p>
ORGANIZER:
METHOD:PUBLISH
END:VEVENT
END:VCALENDAR
