BEGIN:VCALENDAR
PRODID:-//Grails iCalendar plugin//NONSGML Grails iCalendar plugin//EN
VERSION:2.0
CALSCALE:GREGORIAN
METHOD:PUBLISH
BEGIN:VEVENT
DTSTAMP:20260426T012105Z
DTSTART;TZID=Europe/Bucharest:20230623T090000
DTEND;TZID=Europe/Bucharest:20230623T170000
SUMMARY:New Work on Participatory Sense-Making
UID:20260428T030213Z-iCalPlugin-Grails@philevents-web-6b96c54f56-bljdq
TZID:Europe/Bucharest
LOCATION:Splaiul Independenței nr. 204\, Bucharest\, Romania\, 060024
DESCRIPTION:<p>The "<strong>New Work in Participatory Sense-Making</strong>"&nbsp\;<strong>graduate conference</strong>&nbsp\;aims to bring together students and researchers in order advance our understanding of how we come to produce meaning in joint communication.&nbsp\;</p>\n<p><strong>Description:</strong> Meaning is created in social interaction: the participatory perspective on sense-making acknowledges the processes that actively involve the participation and engagement of individual cognizers in collective decision-making\, problem-solving and creative activities. The inter-enactive approach explores social behavior as it unfolds not only based on individual cognitive abilities and goals\, but also on the conditions and constraints imposed by the dynamics of the interaction process. It also offers a framework for understanding the role of active participation in cognitive processes that affect individual understanding.</p>\n<p>The conference will take place&nbsp\;<strong>June 23rd\,&nbsp\;2023.&nbsp\;</strong>It will have a&nbsp\;<strong>hybrid format</strong>\, in that speakers may choose whether they present online only or face to face at the event's location (if so\, their session will enjoy a live audience\, but it will also be streamed to remote participants).</p>\n<p><strong>The conference programme</strong> below includes times for Bucharest\, Romania:&nbsp\;</p>\n<p>11.00 conference opening</p>\n<p>11.10 Enara Garc&iacute\;a (University of the Basque Country)\, &ldquo\;Participatory sense-making in psychotherapy&rdquo\; (Zoom)</p>\n<p>12.20 <strong>keynote address</strong>: Ion Copoeru (Babeș-Bolyai University)\, &ldquo\;Participatory sense-making as a form of engagement&rdquo\;</p>\n<p>Lunch break</p>\n<p>17.50 Sandra Br&acirc\;nzaru (University of Bucharest &amp\; Babeș-Bolyai University)\, &ldquo\;Participatory Sense-Making: VR and Fiction&rdquo\;</p>\n<p>19.00 Juan Ignacio Murillo Vargas (UW-Milwaukee/Massachusetts Institute of Technology)\, &ldquo\;What the QUD Models&rdquo\; (Zoom)</p>\n<p>20.10 roundtable\; end of event</p>\n<p>The conference is organized with the support of graduate students in the &ldquo\;<strong>Mind the Brain</strong>&rdquo\; master&rsquo\;s programme in cognitive science within the&nbsp\;<strong>Department for Theoretical Philosophy</strong>&nbsp\;at the&nbsp\;<strong>University of Bucharest</strong>. More details about the programme are available here:&nbsp\;https://filosofie.unibuc.ro/master-of-arts-in-cognitive-science-mind-the-brain/</p>\n<p>The conference is at its&nbsp\;<strong>third edition</strong>\, following the <strong>&ldquo\;Consciousness and Reality&rdquo\;</strong> graduate conference organized in June 2022\, which enjoyed keynote talks from Mircea Dumitru (U. Bucharest)\, Gualtiero Picinnini (U.&nbsp\; Missouri) and Hong Yu Wong (U. Tȕbingen)\, as well as the <strong>"New Work in the Theory of Mind"</strong> graduate conference organized in February 2023 having Shaun Gallagher (U. Memphis) and Daniel Hutto (U. Wollongong) as keynotes. More details about those conference are available at&nbsp\;https://philevents.org/event/show/99970&nbsp\;and https://philevents.org/event/show/106149\, respectively.&nbsp\;</p>\n<p>For those of you who would like to join some of the meetings but have overlapping commitments\, we will do our best to record the meetings whenever everyone in attendance consents to it\, and to then upload the&nbsp\;<strong>recordings</strong>&nbsp\;on the Department's YouTube channel. Previous talks are available here:&nbsp\;https://www.youtube.com/channel/UCOgUq3dN8CXI4L6DhZT1f_Q</p>\n<p>Stay tuned\, as there will be weekly announcements concerning the titles and abstracts of upcoming talks on the Facebook page titled "Seminarul Departamentului de Filosofie Teoretica UniBuc".&nbsp\;Some of the department's<strong>&nbsp\;recent events</strong>&nbsp\;are also listed at&nbsp\;https://philevents.org/event/show/105249&nbsp\;for 2022-23 and at&nbsp\;&nbsp\;https://philevents.org/event/show/93365&nbsp\;for 2021-22.</p>
ORGANIZER:
METHOD:PUBLISH
END:VEVENT
END:VCALENDAR
