BEGIN:VCALENDAR
PRODID:-//Grails iCalendar plugin//NONSGML Grails iCalendar plugin//EN
VERSION:2.0
CALSCALE:GREGORIAN
METHOD:PUBLISH
BEGIN:VEVENT
DTSTAMP:20260426T011936Z
DTSTART;TZID=America/Toronto:20240405T083000
DTEND;TZID=America/Toronto:20240406T170000
SUMMARY:The Fifth Canadian Colloquium for Ancient Philosophy / Le Cinquième Colloque Canadien de Philosophie Ancienne
UID:20260428T030205Z-iCalPlugin-Grails@philevents-web-6b96c54f56-bljdq
TZID:America/Toronto
LOCATION:Oakham House\, 63 Gould St.\, Toronto\, Canada\, M5B 1E9
DESCRIPTION:<p>The Fifth Canadian Colloquium in Ancient Philosophy\, taking place 5-6 April 2024 (with pre-registration on the 4th) at Toronto Metropolitan University is pleased to announce the program for this year&rsquo\;s event.</p>\n<p>Program: <a  href="http://tinyurl.com/CCAP2024Program"  target="_blank" data-saferedirecturl="https://www.google.com/url?q=http://tinyurl.com/CCAP2024Program&amp\;source=gmail&amp\;ust=1709268824909000&amp\;usg=AOvVaw0Jx7SVaD_SVb318BKmQYSh">http://tinyurl.com/CCAP2024Program</a></p>\n<p>Keynote speakers include Amber Carpenter (Yale-NUS)\, Jessica Gelber (University of Toronto)\, and Christiana Olfert (Tufts). Additionally\, this event will be co-located with the 23rd annual Ancient Philosophy Society conference\, to which registrants gain access\, featuring keynote speakers David Ebrey (University of Barcelona) and Marguerite Deslauriers (McGill University).</p>\n<p>Registration costs are currently $100 CAD for fully employed faculty and $65 CAD for students / underemployed. To begin the registration process\, please send an email with your name and registration type to <a  href="mailto:ccaptoronto@gmail.com"  target="_blank">ccaptoronto@gmail.com</a>.</p>\n<p>There is a discounted group rate of $199 CAD + tax/night at the nearby Chelsea Hotel for conference attendees. This <strong><u>expires on Friday March 1st 2024</u></strong>. This is a great rate so don&rsquo\;t miss out! To register\, use the following link:</p>\n<p>Hotel booking: <a  href="https://be.synxis.com/?adult=1&amp\;arrive=2024-04-03&amp\;chain=10316&amp\;child=0&amp\;clearcache=all&amp\;config=initialConfig&amp\;currency=CAD&amp\;depart=2024-04-07&amp\;group=TMU040324&amp\;hotel=59052&amp\;level=hotel&amp\;locale=en-US&amp\;rooms=1"  target="_blank" data-saferedirecturl="https://www.google.com/url?q=https://be.synxis.com/?adult%3D1%26arrive%3D2024-04-03%26chain%3D10316%26child%3D0%26clearcache%3Dall%26config%3DinitialConfig%26currency%3DCAD%26depart%3D2024-04-07%26group%3DTMU040324%26hotel%3D59052%26level%3Dhotel%26locale%3Den-US%26rooms%3D1&amp\;source=gmail&amp\;ust=1709268824909000&amp\;usg=AOvVaw2zyHAJcG_M42mBYTlk5IJ7"> https://be.synxis.com/?adult=1&amp\;arrive=2024-04-03&amp\;chain=10316&amp\;child=0&amp\;clearcache=all&amp\;config=initialConfig&amp\;currency=CAD&amp\;depart=2024-04-07&amp\;group=TMU040324&amp\;hotel=59052&amp\;level=hotel&amp\;locale=en-US&amp\;rooms=1</a></p>\n<p>The colloquium is sponsored by generous funding from the Department of Philosophy at Toronto Metropolitan University\, the British Society for the History of Philosophy\, and the Society for Women of Ideas.</p>\n<p>The event venue is fully accessible with gender-neutral restrooms. To make the event as accessible and welcoming to all persons as possible\, we welcome any questions or requests regarding accessibility\, child or dependent care\, and related matters. Please email <a  href="mailto:ccaptoronto@gmail.com"  target="_blank">ccaptoronto@gmail.com</a>.</p>\n<p>We look forward to welcoming you to Toronto in the Spring!</p>\n<p>-- The Program Committee</p>
ORGANIZER;CN=Katharine O'Reilly:
METHOD:PUBLISH
END:VEVENT
END:VCALENDAR
