BEGIN:VCALENDAR
PRODID:-//Grails iCalendar plugin//NONSGML Grails iCalendar plugin//EN
VERSION:2.0
CALSCALE:GREGORIAN
METHOD:PUBLISH
BEGIN:VEVENT
DTSTAMP:20260422T165951Z
DTSTART;TZID=Europe/Athens:20140630T100000
DTEND;TZID=Europe/Athens:20140704T180000
SUMMARY:International Association for Presocratic Studies
UID:20260426T234254Z-iCalPlugin-Grails@philevents-web-6b96c54f56-bljdq
TZID:Europe/Athens
LOCATION:Thessaloníki\, Greece
DESCRIPTION:<p>The International Association for Presocratic Studies (IAPS\, founded 2008) announces its fourth conference\, to be held from the 30th of June to the 4th of July\, 2014. The meeting will be hosted by the Interdisciplinary Center of Aristotelian Studies at the Aristotelian University of Thessaloniki.</p>\n<p>We understand the Presocratics to be the figures whose fragments and testimonies are collected in Hermann Diels'&nbsp\;<em>Die Fragmente der Vorsokratiker</em>&nbsp\;(6th&nbsp\;edn. 1951\, edited by Walther Kranz). These figures include cosmologists\, anti-cosmologists\, sophists\, philosophical poets\, Pythagoreans\, the fifth-century Sophists\, and other intellectuals dedicated to an explanation of the world and human affairs\, from Thales down to the time of Socrates (and shortly thereafter\, according to Diels' non-chronological understanding of 'Presocratic'). We recognize the need for philosophical\, philological\, textual\, doxographical\, historical\, literary\, and religious studies\, as well as studies of the reception of Presocratic thought.</p>\n<p><br>For queries about membership and updates to mailing list\, contact:<br> <br> Daniel W. Graham<br> Department of Philosophy<br> 4086 JFSB<br> Brigham Young University<br> Provo\, Utah 84602<br>(801) 422-2223Fax (801)422-9742</p>\n<p>daniel_graham@byu.edu<br></p>
ORGANIZER:
METHOD:PUBLISH
END:VEVENT
END:VCALENDAR
