BEGIN:VCALENDAR
PRODID:-//Grails iCalendar plugin//NONSGML Grails iCalendar plugin//EN
VERSION:2.0
CALSCALE:GREGORIAN
METHOD:PUBLISH
BEGIN:VEVENT
DTSTAMP:20260422T184237Z
DTSTART;TZID=Europe/London:20140131T090000
DTEND;TZID=Europe/London:20140131T090000
SUMMARY:International Association for Presocratic Studies
UID:20260427T064719Z-iCalPlugin-Grails@philevents-web-6b96c54f56-bljdq
TZID:Europe/London
LOCATION:Thessaloníki\, Greece
DESCRIPTION:<p>The International Association for Presocratic Studies (IAPS\, founded 2008) announces its fourth conference\, to be held from the 30th of June to the 4th of July\, 2014. The meeting will be hosted by the Interdisciplinary Center of Aristotelian Studies at the Aristotelian University of Thessaloniki.</p>\n<p>We understand the Presocratics to be the figures whose fragments and testimonies are collected in Hermann Diels'&nbsp\;<em>Die Fragmente der Vorsokratiker</em>&nbsp\;(6th&nbsp\;edn. 1951\, edited by Walther Kranz). These figures include cosmologists\, anti-cosmologists\, sophists\, philosophical poets\, Pythagoreans\, the fifth-century Sophists\, and other intellectuals dedicated to an explanation of the world and human affairs\, from Thales down to the time of Socrates (and shortly thereafter\, according to Diels' non-chronological understanding of 'Presocratic'). We recognize the need for philosophical\, philological\, textual\, doxographical\, historical\, literary\, and religious studies\, as well as studies of the reception of Presocratic thought.</p>\n<p>Proposals for papers on any Presocratic topic\, problem or author are welcome. Submission of abstracts (maximum 300 words) should be addressed to Richard McKirahan (<a target="_blank">IAPS-2014@pomona.edu</a>).<br> <br> Deadline for submission of abstracts is 31 December 2013.<br> <br> All submissions will be reviewed by a Committee appointed by the Council of the IAPS. Accepted proposals will be notified not later than 1 March 2014\, and will receive an official invitation to give a paper at the conference.<br> <br> Full papers should be submitted both in MS Word and PDF format by 30 May 2014.<br> <br> &bull\; Papers may be written and read in English\, Spanish\, French\, German or Italian.<br> &bull\; For presentation it is recommended that a full English version or an English abstract and/or handout be made available to the audience.<br> &bull\; If the paper contains untransliterated Greek\, a Unicode font should be used.<br> Format guidelines are:<br> &bull\; Maximum length for the printout version is 3\,000 words\, exclusive of footnotes and bibliography.<br> &bull\; Maximum length for oral presentation is 2\,000 words (20-minute reading time).</p>\n<p><br>For queries about membership and updates to mailing list\, contact:<br> <br> Daniel W. Graham<br> Department of Philosophy<br> 4086 JFSB<br> Brigham Young University<br> Provo\, Utah 84602<br>(801) 422-2223Fax (801)422-9742</p>\n<p>daniel_graham@byu.edu</p>
ORGANIZER:
METHOD:PUBLISH
END:VEVENT
END:VCALENDAR
