BEGIN:VCALENDAR
PRODID:-//Grails iCalendar plugin//NONSGML Grails iCalendar plugin//EN
VERSION:2.0
CALSCALE:GREGORIAN
METHOD:PUBLISH
BEGIN:VEVENT
DTSTAMP:20260425T232859Z
DTSTART;TZID=America/Toronto:20231001T234500
DTEND;TZID=America/Toronto:20231001T234500
SUMMARY:The Fifth Canadian Colloquium for Ancient Philosophy / Le Cinquième Colloque Canadien de Philosophie Ancienne
UID:20260428T001253Z-iCalPlugin-Grails@philevents-web-6b96c54f56-bljdq
TZID:America/Toronto
LOCATION:Oakham House\, 63 Gould St.\, Toronto\, Canada\, M5B 1E9
DESCRIPTION:<p>[la version fran&ccedil\;aise suit]</p>\n<p><strong>TORONTO METROPOLITAN UNIVERSITY</strong></p>\n<p>Hosts</p>\n<p><strong>The Fifth Canadian Colloquium for Ancient Philosophy</strong></p>\n<p><strong>April 5-6\, 2024</strong></p>\n<p>Toronto Metropolitan University warmly invites the submission of proposals in either French or English for individual papers\, poster presentations and panel discussions for the Fifth Canadian Colloquium for Ancient Philosophy. We invite submissions in all areas of Ancient Philosophy (broadly construed)\, and we welcome submissions from graduate and postgraduate students.</p>\n<p>The general\, loose theme for the event is &lsquo\;New Directions in Ancient Philosophy&rsquo\;. We anticipate that this will include at least one panel on &lsquo\;Representation in Ancient Philosophy&rsquo\;.</p>\n<p>The list of confirmed speakers includes</p>\n<ul>\n<li><strong>Amber Carpenter </strong>(Yale-NUS)<strong></strong></li>\n<li><strong>Jessica Gelber </strong>(University of Toronto)<strong></strong></li>\n<li><strong>Christiana Olfert </strong>(Tufts)<strong></strong></li>\n</ul>\n<p>Additionally\, this event will be co-located with the <strong>23rd annual Ancient Philosophy Society</strong> conference\, featuring keynote speakers such as <strong>David Ebrey</strong> (University of Barcelona). <strong></strong></p>\n<p>For individual papers (with a presentation time of up to 25 minutes) and poster presentations\, please submit an abstract (including a title) of 300-500 words. Abstracts should be prepared for blind review. In an email message to which your proposal is attached please include your name including preferred pronouns\, academic affiliation\, and contact details.</p>\n<p>Abstracts must be received by <strong>1 October 2023</strong> to be considered for the colloquium. The selection committee will notify those who submitted of its decision by the beginning of December. Please email your submissions (in .rtf\, .doc\, .pdf format) to <a href="mailto:ccaptoronto@gmail.com">ccaptoronto@gmail.com</a></p>\n<p><strong><em><br></em></strong></p>\n<p><strong><em>Submission guidelines</em></strong></p>\n<p><em>Individual papers</em></p>\n<p>Presentations can be summaries of longer papers\, and papers will be distributed in advance.</p>\n<p><em>Poster presentations</em></p>\n<p>Posters provide an opportunity to present and discuss your work (research project\, PhD topic) during the poster session and at other times during the conference\, and they allow authors and participants to connect and engage in discussion about the presented work. Posters should be 36 inches (90cm) high by 24 inches (60cm) wide for portrait/vertical display.</p>\n<p>Although the presentation will be in the form of a poster\, the submission itself should be in the form of an abstract describing the work. In an email to which your proposal is attached please also indicate whether you would like to serve as a commentator if your proposal is not accepted.</p>\n<p><em>Panels</em></p>\n<p>Proposals for panel or roundtable discussions should include a 300 word abstract describing the theme of the panel and a list of confirmed participants (3 or 4) and titles of their presentations (15 mins).</p>\n<p><em>All submissions</em></p>\n<p>Please note that individuals are not permitted to submit to both the CCAP and co-located APS events\, even with different works\, so as to ensure the set of speakers of each event are distinct.&nbsp\;The CCAP values diversity in its participants as well as in its scholarly perspectives. We particularly invite submissions from members of groups underrepresented in philosophy\, including women\, people of color\, members of Indigenous communities\, LGBTQ2S+ individuals\, and neurodivergent individuals\, as well as persons who are otherwise abled.</p>\n<p>Visit <a href="http://www.facebook.com/CanadianColloquium">Facebook</a>&nbsp\;for more information and colloquium updates.</p>\n<p>Queries and suggestions welcome: <a href="mailto:ccaptoronto@gmail.com">ccaptoronto@gmail.com</a></p>\n<p>The colloquium is sponsored by generous funding from the Department of Philosophy at Toronto Metropolitan University and the British Society for the History of Philosophy. The event venue is fully accessible with gender-neutral restrooms. In an effort to make the event as accessible and welcoming to all persons as possible\, the organizers welcome any questions regarding accessibility\, childcare support\, and related matters.</p>\n<p>-=-=-=-=-=-=-=--=-=-=-=-=-=-=--=-=-=-=-=-=-=--=-=-=-=</p>\n<p><strong>Universit&eacute\; M&eacute\;tropolitaine de Toronto</strong></p>\n<p>accueil</p>\n<p><strong>Le Cinqui&egrave\;me Colloque Canadien de Philosophie Ancienne</strong></p>\n<p><strong>Du 5 au 6 Avril 2024</strong></p>\n<p>Pour le&nbsp\;<em>Cinqui&egrave\;me Colloque Canadien de Philosophie Ancienne</em>\, l&rsquo\;Universit&eacute\; M&eacute\;tropolitaine de Toronto invite des propositions de contribution\, en fran&ccedil\;ais ou en anglais\, sous forme de communications individuelles\, de pr&eacute\;sentations d&rsquo\;affiches ou de tables rondes. Toute proposition de contribution soumise relevant de la philosophie ancienne (interpr&eacute\;t&eacute\; au sens large) sera examin&eacute\;e. Nous accueillons les soumissions d&rsquo\;&eacute\;tudiants dipl&ocirc\;m&eacute\;s et postdoctoraux.</p>\n<p>Le th&egrave\;me retenu\, &agrave\; prendre au sens large\, est &lsquo\;Nouvelles orientations en philosophie ancienne&rsquo\;. Nous pr&eacute\;voyons inclure au moins un panel sur la &lsquo\;Repr&eacute\;sentation dans la philosophie ancienne&rsquo\;.</p>\n<p>La liste des invit&eacute\;s comprend:</p>\n<ul>\n<li><strong>Amber Carpenter&nbsp\;</strong>(Yale-NUS)</li>\n<li><strong>Jessica Gelber&nbsp\;</strong>(University of Toronto)</li>\n<li><strong>Christiana Olfert&nbsp\;</strong>(Tufts)</li>\n</ul>\n<p>En outre\, cet &eacute\;v&eacute\;nement aura lieu conjointement avec la&nbsp\;<strong>23e conf&eacute\;rence annuelle de la Soci&eacute\;t&eacute\; de Philosophie Ancienne</strong>\, avec des conf&eacute\;renciers principaux tels que&nbsp\;<strong>David Ebrey</strong>&nbsp\;(Universit&eacute\; de Barcelone).</p>\n<p>Pour les communications individuelles (comprenant un temps de pr&eacute\;sentation de 25 minutes) et les pr&eacute\;sentations d&rsquo\;affiches\, veuillez soumettre un r&eacute\;sum&eacute\; (avec titre) de 300 &agrave\; 500 mots.&nbsp\;Toutes les soumissions doivent &ecirc\;tre pr&eacute\;sent&eacute\;es en vue d&rsquo\;une &eacute\;valuation strictement anonyme. Pri&egrave\;re d&rsquo\;envoyer votre communication anonym&eacute\;e en fichier joint &agrave\; un courriel pr&eacute\;cisant vos informations personnelles (nom\, pronoms pr&eacute\;f&eacute\;r&eacute\;s\, affiliation institutionnelle et d&eacute\;tails du contact).&nbsp\;</p>\n<p>Les r&eacute\;sum&eacute\;s devront &ecirc\;tre soumis\, par courriel\, au plus tard le&nbsp\;<strong>1 Octobre 2023</strong>. Le comit&eacute\; d&rsquo\;&eacute\;valuation vous avisera de sa d&eacute\;cision au d&eacute\;but de decembre. S&rsquo\;il vous pla&icirc\;t\, veuillez soumettre votre proposition (en format rtf\, doc ou pdf) au&nbsp\;<a href="mailto:ccaptoronto@gmail.com">ccaptoronto@gmail.com</a>.</p>\n<p><strong>Format de&nbsp\;soumission</strong></p>\n<p><em>Communications&nbsp\;Individuelles</em></p>\n<p>Les pr&eacute\;sentations individuelles peuvent &ecirc\;tre un r&eacute\;sum&eacute\; d&eacute\;taill&eacute\; d&rsquo\;un texte int&eacute\;gral\; la version int&eacute\;grale sera distribu&eacute\;e &agrave\; l&rsquo\;avance.</p>\n<p><em>Affiches</em></p>\n<p>Les pr&eacute\;sentations affich&eacute\;es offrent l&rsquo\;occasion de faire conna&icirc\;tre et de discuter votre recherche durant la session des expos&eacute\;s et &agrave\; d&rsquo\;autres moments durant le colloque. Ces pr&eacute\;sentations permettent de cr&eacute\;er des liens entre les auteurs et les autres participants\, et elles constituent des points de d&eacute\;part pour la discussion sur leurs recherches respectives. Les dimensions mat&eacute\;rielles des pr&eacute\;sentations affich&eacute\;es devraient &ecirc\;tre d&rsquo\;environ 60 cm en largeur et 90 cm en hauteur pour affichage vertical.</p>\n<p>Les propositions pour les affiches doivent &ecirc\;tre envoy&eacute\;es sous la forme d&rsquo\;un r&eacute\;sum&eacute\; d&eacute\;crivant votre th&eacute\;matique de recherche. Dans le courriel auquel sera jointe votre proposition\,&nbsp\;veuillez &eacute\;galement indiquer si vous souhaitez servir de commentateur si votre proposition n'est pas accept&eacute\;e.</p>\n<p><em>Tables Rondes</em></p>\n<p>Les propositions de discussions en table ronde doivent inclure un r&eacute\;sum&eacute\; de 300 mots d&eacute\;crivant le th&egrave\;me et une liste des participants confirm&eacute\;s (3 ou 4) et les titres de leurs pr&eacute\;sentations (15 minutes).</p>\n<p><em>Toutes les soumissions</em></p>\n<p>Veuillez noter que les individus ne sont pas autoris&eacute\;s &agrave\; soumettre &agrave\; la fois le CCAP et les &eacute\;v&eacute\;nements APS co-localis&eacute\;s\, m&ecirc\;me avec des &oelig\;uvres diff&eacute\;rentes\, afin de garantir que l'ensemble des conf&eacute\;renciers de chaque &eacute\;v&eacute\;nement est distinct. Le CCAP valorise la diversit&eacute\; chez ses participants ainsi que dans ses perspectives acad&eacute\;miques. Nous invitons particuli&egrave\;rement les soumissions de membres de groupes sous-repr&eacute\;sent&eacute\;s en philosophie\, y compris les femmes\, les personnes de couleur\, les membres des communaut&eacute\;s autochtones\, les personnes LGBTQ2S+ et les personnes neurodivergentes\, ainsi que les personnes ayant un handicap.</p>\n<p>Consultez&nbsp\;<a href="http://www.facebook.com/CanadianColloquium">Facebook</a>&nbsp\;pour les mises &agrave\; jour et des informations.</p>\n<p>Envoyez vos questions &agrave\;&nbsp\;<a href="mailto:ccaptoronto@gmail.com">ccaptoronto@gmail.com</a></p>\n<p>Le colloque est rendu possible gr&acirc\;ce au g&eacute\;n&eacute\;reux financement du D&eacute\;partement de Philosophie de l&rsquo\;Universit&eacute\; M&eacute\;tropolitaine de Toronto et de la British Society for the History of Philosophy. Le lieu de l'&eacute\;v&eacute\;nement est enti&egrave\;rement accessible avec des toilettes non genr&eacute\;es. Afin de rendre l'&eacute\;v&eacute\;nement aussi accessible et accueillant que possible pour toute personne\, les organisateurs accueillent toutes les questions concernant l'accessibilit&eacute\;\, le soutien &agrave\; la garde d'enfants et autres informations pratiques sur le colloque.</p>
ORGANIZER;CN=Katharine O'Reilly:
METHOD:PUBLISH
END:VEVENT
END:VCALENDAR
