BEGIN:VCALENDAR
PRODID:-//Grails iCalendar plugin//NONSGML Grails iCalendar plugin//EN
VERSION:2.0
CALSCALE:GREGORIAN
METHOD:PUBLISH
BEGIN:VEVENT
DTSTAMP:20260419T235744Z
DTSTART;TZID=Europe/Brussels:20230912T140000
DTEND;TZID=Europe/Brussels:20230913T170000
SUMMARY:Resonance: the Concept’s Political Uses and Potential
UID:20260422T234328Z-iCalPlugin-Grails@philevents-web-f5d4878dd-nv7xt
TZID:Europe/Brussels
LOCATION:Bâtiment Thomas More\, Louvain-la-Neuve\, Belgium\, 1348
DESCRIPTION:<p>The concept of resonance\, introduced in Hartmut Rosa&rsquo\;s 2016 book and enriched through a series of subsequent publications\, constitutes the centerpiece of both a novel sociological theory and an important step forward in contemporary critical theory. Indeed\, Rosa&rsquo\;s ambitious project is both descriptive and normative\, simultaneously offering a fresh conceptual apparatus for future sociological research and strikingly innovative tools for renewing the critical tradition in social philosophy. In this workshop\, we seek to explore the opportunities and challenges surrounding the potential political uses of resonance. We discuss the concept&rsquo\;s capacity as a collective action frame\, the context and scales at which it might have particularly strong analytical purchase and the possible limits of resonance when it comes to understanding and shaping the political field <em>stricto sensu</em>.</p>
ORGANIZER;CN=Nicolas Cuneen;CN="Amaël Maskens";CN=Olivier Struelens;CN="Hervé Pourtois":
METHOD:PUBLISH
END:VEVENT
END:VCALENDAR
