BEGIN:VCALENDAR
PRODID:-//Grails iCalendar plugin//NONSGML Grails iCalendar plugin//EN
VERSION:2.0
CALSCALE:GREGORIAN
METHOD:PUBLISH
BEGIN:VEVENT
DTSTAMP:20260419T164931Z
DTSTART;TZID=America/New_York:20231003T120000
DTEND;TZID=America/New_York:20231003T130000
SUMMARY:Voicing disagreement in science: Missing women
UID:20260421T091332Z-iCalPlugin-Grails@philevents-web-f5d4878dd-nv7xt
TZID:America/New_York
LOCATION: University of Pittsburgh\, 4200 Fifth Avenue\, Pittsburgh\, United States\, 15213
DESCRIPTION:LTT - David Klinowski\n\n\n\n\n\n<p>Title:&nbsp\;Voicing disagreement in science: Missing women</p>\n<p>Abstract:</p>\n<p>This paper examines the authorship of post-publication criticisms in the scientific literature\, with a focus on gender differences. Bibliometrics from journals in the natural and social sciences show that comments that criticize or correct a published study are 20-40% less likely than regular papers to have a female author. In preprints in the life sciences\, prior to peer review\, women are missing by 20-40% in failed replications compared to regular papers\, but are not missing in successful replications. In an experiment\, I then find large gender differences in willingness to point out and penalize a mistake in someone&rsquo\;s work.</p>\n\n<p>This talk will also be available live streamed on YouTube at&nbsp\;https://www.youtube.com/channel/UCrRp47ZMXD7NXO3a9Gyh2sg</a>.</p>\n\n
ORGANIZER;CN=Edouard Machery:
METHOD:PUBLISH
END:VEVENT
END:VCALENDAR
