BEGIN:VCALENDAR
PRODID:-//Grails iCalendar plugin//NONSGML Grails iCalendar plugin//EN
VERSION:2.0
CALSCALE:GREGORIAN
METHOD:PUBLISH
BEGIN:VEVENT
DTSTAMP:20260423T013230Z
DTSTART;TZID=America/Los_Angeles:20131025T100000
DTEND;TZID=America/Los_Angeles:20131026T180000
SUMMARY:The 'Stanford School' of Philosophy of Science
UID:20260428T070814Z-iCalPlugin-Grails@philevents-web-6b96c54f56-bljdq
TZID:America/Los_Angeles
LOCATION:Stanford\, United States
DESCRIPTION:<p>A conference "The 'Stanford School' of Philosophy of Science" will take<br> place at Stanford University on Oct 25-26\, 2013. The event is free and open<br> to the public. Participant list appended below. <br> <br> As organizer\, I am willing to respond to any questions you may have.<br> Rasmus Gr&oslash\;nfeldt Winther (rgw@UCSC.EDU)<br> <br> <br> &nbsp\; &nbsp\;*Panel #4: Stanford School Core Members [Saturday afternoon]*<br> &nbsp\; &nbsp\;- Nancy Cartwright (Durham)<br> &nbsp\; &nbsp\;- John Dupr&eacute\; (Exeter)<br> &nbsp\; &nbsp\;- Peter Galison (Harvard)<br> &nbsp\; &nbsp\;- Peter Godfrey-Smith (CUNY)<br> &nbsp\; &nbsp\;- Patrick Suppes (Stanford)<br> &nbsp\; &nbsp\;- Chair: R. Lanier Anderson (Stanford)<br> <br> <br> &nbsp\; &nbsp\;*Panel #3: Collaborative Local Scientists [Saturday morning]*<br> &nbsp\; &nbsp\;- Brian Cantwell-Smith (Toronto)<br> &nbsp\; &nbsp\;- Persi Diaconis (Stanford)<br> &nbsp\; &nbsp\;- CWF Everitt (Stanford)<br> &nbsp\; &nbsp\;- Solomon Feferman (Stanford)<br> &nbsp\; &nbsp\;- Marcus Feldman (Stanford)<br> &nbsp\; &nbsp\;- Melissa Franklin (Harvard)<br> &nbsp\; &nbsp\;- Denis Phillips (Stanford)<br> &nbsp\; &nbsp\;- Chair: Paolo Mancosu (UC Berkeley)<br> <br> <br> &nbsp\; &nbsp\;*Panel #2: Parallel Philosophers [Friday afternoon]*<br> &nbsp\; &nbsp\;- Philip Kitcher (Columbia)<br> &nbsp\; &nbsp\;- Helen Longino (Stanford)<br> &nbsp\; &nbsp\;- Sergio Mart&iacute\;nez Mu&ntilde\;oz (National Autonomous University of Mexico\, UNAM)<br> &nbsp\; &nbsp\;- Bas van Fraassen (San Francisco State University)<br> &nbsp\; &nbsp\;- Co-Chairs: Debra Satz (Stanford) and John Perry (Stanford)<br> <br> <br> &nbsp\; &nbsp\;*Panel #1: Next Generation(s) [Friday morning]*<br> &nbsp\; &nbsp\;- Jordi Cat (Indiana)<br> &nbsp\; &nbsp\;- Hasok Chang (Cambridge)<br> &nbsp\; &nbsp\;- Jonathan Kaplan (Oregon State University)<br> &nbsp\; &nbsp\;- Naomi Oreskes (Harvard)<br> &nbsp\; &nbsp\;- Janet Stemwedel (San Jos&eacute\; State University)<br> &nbsp\; &nbsp\;- Michael Weisberg (University of Pennsylvania)<br> &nbsp\; &nbsp\;- Rasmus Gr&oslash\;nfeldt Winther (UC Santa Cruz)<br> &nbsp\; &nbsp\;- Chair: Arezoo Islami (Stanford)<br> <br> *Opening Comments:*<br> Rasmus Gr&oslash\;nfeldt Winther (UC Santa Cruz)<br> <br> *Closing Comments:*<br> Thomas Ryckman (Stanford)</p>\n<p>Those searching for lodging near Stanford University\, may wish to contact the following hotels:</p>\n<p>http://www.hotelkeen.com/</p>\n<p>http://www.paloaltoci.com/</p>\n<p>http://book.bestwestern.com/bestwestern/US/CA/Menlo-Park-hotels/BEST-WESTERN-PLUS-Riviera/Hotel-Overview.do?propertyCode=05561<br><br></p>
ORGANIZER;CN="Rasmus Grønfeldt Winther":
METHOD:PUBLISH
END:VEVENT
END:VCALENDAR
