BEGIN:VCALENDAR
PRODID:-//Grails iCalendar plugin//NONSGML Grails iCalendar plugin//EN
VERSION:2.0
CALSCALE:GREGORIAN
METHOD:PUBLISH
BEGIN:VEVENT
DTSTAMP:20260421T155508Z
DTSTART;TZID=Europe/London:20131001T100000
DTEND;TZID=Europe/London:20131001T100000
SUMMARY:Locke Workshop
UID:20260423T193535Z-iCalPlugin-Grails@philevents-web-6b96c54f56-bljdq
TZID:Europe/London
LOCATION:Bronx\, United States
DESCRIPTION:<p>Papers on any topic in John&nbsp\;Locke's philosophy are welcome.<br> <br>Please send paper abstracts (of no more than 500 words) to:&nbsp\; Jessica Gordon-Roth (jgordonroth@gmail.com)</p>\n<p><br>Abstract Deadline: October 1\, 2013<br> Program Announcement: November 15\, 2013</p>\n<p>Contacts: Jessica Gordon-Roth&nbsp\;(Lehman College\, CUNY)&nbsp\;jgordonroth@gmail.com&nbsp\;and Benjamin Hill (University of Western Ontario)&nbsp\;bhill28@uwo.ca</p>
ORGANIZER:
METHOD:PUBLISH
END:VEVENT
END:VCALENDAR
