BEGIN:VCALENDAR
PRODID:-//Grails iCalendar plugin//NONSGML Grails iCalendar plugin//EN
VERSION:2.0
CALSCALE:GREGORIAN
METHOD:PUBLISH
BEGIN:VEVENT
DTSTAMP:20260422T173751Z
DTSTART;TZID=Europe/London:20231031T143000
DTEND;TZID=Europe/London:20231031T160000
SUMMARY:The Projection of Slurs in ASL: A First Look
UID:20260427T020544Z-iCalPlugin-Grails@philevents-web-6b96c54f56-bljdq
TZID:Europe/London
DESCRIPTION:<p>The Slurring Terms Across Languages (<strong>STAL</strong>) network (https://sites.google.com/view/stalnetwork/home) invites you to a talk by <strong>Philippe Schlenker</strong> (Institut Jean Nicod/New York University) entitled "The Projection of Slurs in ASL: A First Look"\, based on joint work with <strong>Jason Lamberton</strong> (Gallaudet University) and <strong>Jonathan Lamberton</strong> (New York). The talk will take place on <strong>OCTOBER 31\, 14:30-16:00 CET</strong>\, and is part of the of STAL network seminar series. If you want to participate\, please write to danczeman@gmail.com for the Zoom link.</p>\n<p>All welcome!</p>
ORGANIZER;CN=Isidora Stojanovic;CN=Dan Zeman:
METHOD:PUBLISH
END:VEVENT
END:VCALENDAR
