BEGIN:VCALENDAR
PRODID:-//Grails iCalendar plugin//NONSGML Grails iCalendar plugin//EN
VERSION:2.0
CALSCALE:GREGORIAN
METHOD:PUBLISH
BEGIN:VEVENT
DTSTAMP:20260425T124610Z
DTSTART;TZID=Europe/London:20231201T090000
DTEND;TZID=Europe/London:20231202T170000
SUMMARY:Frontiers of Artificial Intelligence – Philosophical explorations
UID:20260427T074930Z-iCalPlugin-Grails@philevents-web-6b96c54f56-bljdq
TZID:Europe/London
DESCRIPTION:<p>Normal 0 false false false EN-US X-NONE X-NONE/* Style Definitions */ table.MsoNormalTable {mso-style-name:Standardowy\; mso-tstyle-rowband-size:0\; mso-tstyle-colband-size:0\; mso-style-noshow:yes\; mso-style-priority:99\; mso-style-parent:""\; mso-padding-alt:0cm 5.4pt 0cm 5.4pt\; mso-para-margin:0cm\; mso-para-margin-bottom:.0001pt\; text-align:justify\; text-indent:42.55pt\; line-height:200%\; mso-pagination:widow-orphan\; font-size:11.0pt\; font-family:"Calibri"\,"sans-serif"\; mso-ascii-font-family:Calibri\; mso-ascii-theme-font:minor-latin\; mso-hansi-font-family:Calibri\; mso-hansi-theme-font:minor-latin\; mso-bidi-font-family:"Times New Roman"\; mso-bidi-theme-font:minor-bidi\; mso-ansi-language:PL\;}</p>\n<p>Frontiers of Artificial Intelligence &ndash\; Philosophical explorations</p>\n<p>Extended Deadline</p>\n<p>Dec 1-2\, 2023</p>\n<p>The conference explores the philosophical&nbsp\; problems at the frontiers of &nbsp\;Artificial Intelligence (AI). &nbsp\;The assumption behind the conference is that AI technology itself cannot explain what AI technology does and can accomplish\, why AI systems do what they do and not do and why they cannot (so far) &nbsp\;move beyond a certain class of problems. The claim is that to progress\, AI needs to understand the philosophical background of the problems it attempts to model. Thus\, AI needs philosophy\; &nbsp\;the question &ldquo\;What philosophy can do for AI?&rdquo\; may be another title of this conference. Some of the topics we hope to discuss are:</p>\n<p>&middot\;&nbsp\;&nbsp\;&nbsp\;&nbsp\;&nbsp\;&nbsp\;&nbsp\;&nbsp\; Roads to AGI &ndash\; is there one or many or none?</p>\n<p>&middot\;&nbsp\;&nbsp\;&nbsp\;&nbsp\;&nbsp\;&nbsp\;&nbsp\;&nbsp\; AI like us? Do we really want it?</p>\n<p>&middot\;&nbsp\;&nbsp\;&nbsp\;&nbsp\;&nbsp\;&nbsp\;&nbsp\;&nbsp\; AI creativity &ndash\; AI art\, music\, literature\, philosophy &ndash\; is there one?</p>\n<p>&middot\;&nbsp\;&nbsp\;&nbsp\;&nbsp\;&nbsp\;&nbsp\;&nbsp\;&nbsp\; Synthetic philosophy\; philosophy of AI\, or by AI?</p>\n<p>&middot\;&nbsp\;&nbsp\;&nbsp\;&nbsp\;&nbsp\;&nbsp\;&nbsp\;&nbsp\; Epistemic States in AI systems- are there any?</p>\n<p>&middot\;&nbsp\;&nbsp\;&nbsp\;&nbsp\;&nbsp\;&nbsp\;&nbsp\;&nbsp\; Belief forming processes in AI systems</p>\n<p>&middot\;&nbsp\;&nbsp\;&nbsp\;&nbsp\;&nbsp\;&nbsp\;&nbsp\;&nbsp\; Deep ethics in AI systems\, ethical problem space\, dual use AI- what are we talking about?</p>\n<p>&middot\;&nbsp\;&nbsp\;&nbsp\;&nbsp\;&nbsp\;&nbsp\;&nbsp\;&nbsp\; What is agency? AI threats to human agency\, creativity\, truth\, and society - realities\, sci-fi visions\, dystopias or utopias\; reading tea-leaves of technology\, who should be in control of whom\, do we lose ontological status of primary epistemic agents.</p>\n<p>&middot\;&nbsp\;&nbsp\;&nbsp\;&nbsp\;&nbsp\;&nbsp\;&nbsp\;&nbsp\; Do we need philosophy in AI&nbsp\; or having&nbsp\; just clever programmers enough?</p>\n<p>&nbsp\;The conference will be on-line using ZOOOM platform. The participation will be free. The conference is organized by The Commission for the Philosophy of Science at the Polish Academy of Arts and Sciences. Early inquiries about the conference can be directed to Roman Krzanowski (rmkrzan[at]gmail.com) or Pawel Polak (pawel.polak[at]upjp2.edu.pl).</p>\n<p>The proposals for the presentations should be submitted for the anonymous review to . On the separate page the author(s) should submit the full name\, affiliation and a short CV (up to 150 words). The proposals should not exceed 300-400 words (including references) in (*.docx) format. We accept presentations in English.</p>\n<p>Important dates:</p>\n<p>Nov 10th - Deadline for abstracts</p>\n<p>Nov 15th - The authors of accepted abstract are notified.</p>\n<p>Nov 20th - Program finalized\; Zoom contact sent out.</p>\n<p>Dec 1-2nd - Conference online (ZOOM)</p>\n<p>The conference will be organized using ZOOM platform. There are no fees for attending the conference. The list of accepted abstracts will be published before the conference. The authors of selected abstracts will be invited to submit the paper (up to 6000 words) for publication in the philosophy journal &ldquo\;Studies in Logic\, Grammar and Rhetoric&rdquo\; (https://sciendo.com/journal/SLGR) in 2023/24.</p>
ORGANIZER:
METHOD:PUBLISH
END:VEVENT
END:VCALENDAR
