BEGIN:VCALENDAR
PRODID:-//Grails iCalendar plugin//NONSGML Grails iCalendar plugin//EN
VERSION:2.0
CALSCALE:GREGORIAN
METHOD:PUBLISH
BEGIN:VEVENT
DTSTAMP:20260419T171230Z
DTSTART;TZID=Europe/London:20131231T090000
DTEND;TZID=Europe/London:20131231T090000
SUMMARY:Medieval Logic and Theology
UID:20260421T111756Z-iCalPlugin-Grails@philevents-web-f5d4878dd-nv7xt
TZID:Europe/London
DESCRIPTION:<p>The Society for Medieval Logic and Metaphysics is inviting submissions for two volumes (volume 12:1 and volume 12:2)\, planned for Spring 2015 in our series with Cambridge Scholars Publishing (Gyula Klima and Alex Hall eds.) The deadline for submissions for either volume is December 31\, 2013.</p>\n\n\n<p>Volume 12:1 &ndash\; The Logic of John Duns Scotus</p>\n\n\n<p>Volume 12:2 &ndash\; Natural Theology in Medieval Judaism</p>\n\n<p>Please send submissions to Alex Hall: alexanderhall@clayton.edu&nbsp\;</p>
ORGANIZER:
METHOD:PUBLISH
END:VEVENT
END:VCALENDAR
