BEGIN:VCALENDAR
PRODID:-//Grails iCalendar plugin//NONSGML Grails iCalendar plugin//EN
VERSION:2.0
CALSCALE:GREGORIAN
METHOD:PUBLISH
BEGIN:VEVENT
DTSTAMP:20260420T221329Z
DTSTART;TZID=America/New_York:20240420T090000
DTEND;TZID=America/New_York:20240420T170000
SUMMARY:17th Annual Graduate Student Conference 
UID:20260421T101659Z-iCalPlugin-Grails@philevents-web-6b96c54f56-bljdq
TZID:America/New_York
LOCATION:1400 Washington Ave\, Albany\, United States\, 12222
DESCRIPTION:<p>After several rounds of voting and spirited deliberation\, the graduate students of the UAlbany Philosophy department are proud to announce that our 17th Annual Graduate Student Conference will focus on <em>Enviromental Philosophy</em>\, with a special focus on minority voices. We are taking a very broad approach to this topic\; for example\, we will consider papers on animals ethics\, food justice\, climate change\, and nature\, among other areas. However\, special consideration will be given to papers from marginalized persepctives. For example\, feminist\, black\, or LGBT voices will be given special attention.</p>
ORGANIZER:
METHOD:PUBLISH
END:VEVENT
END:VCALENDAR
