BEGIN:VCALENDAR
PRODID:-//Grails iCalendar plugin//NONSGML Grails iCalendar plugin//EN
VERSION:2.0
CALSCALE:GREGORIAN
METHOD:PUBLISH
BEGIN:VEVENT
DTSTAMP:20260420T204145Z
DTSTART;TZID=America/New_York:20240214T230000
DTEND;TZID=America/New_York:20240214T230000
SUMMARY:17th Annual Graduate Student Conference 
UID:20260421T022010Z-iCalPlugin-Grails@philevents-web-6b96c54f56-bljdq
TZID:America/New_York
LOCATION:1400 Washington Ave\, Albany\, United States\, 12222
DESCRIPTION:<p>We invite graduate students to submit papers in&nbsp\;any&nbsp\;area of Environmental Philosophy. Think broadly: animals\, food\, agriculture\, nature\, climate\, etc. However\, special consideration will be given to papers from marginalized perspectives. For example\, feminist\, black or queer voices will be given special attention. Papers should be suitable for a 25 to 30 minute presentation (approximately 3\,000-4\,000 words).</p>\n<p>All submissions should be prepared for blind review and should include a separate document containing the following information: your name\, paper title\, an abstract of approximately 150 to 250 words\, institutional affiliation\, e-mail address\, phone number\, and where you saw this call for papers. Please submit papers via e-mail with &ldquo\;2024 Conference Submission&rdquo\; in the subject line. Acceptable formats are MS Word documents\, RTF files\, or PDF files. Please send submissions to&nbsp\;uapa.submission@gmail.com.</p>\n<p>Please note:&nbsp\;Housing can be provided for graduate student speakers. In addition\, conference registration and all meals on the day of the conference are free for all conference attendees.</p>\n<p>For more information about the conference or about the submission requirements\, please contact Jonah Ford at jford3@albany.edu</p>
ORGANIZER:
METHOD:PUBLISH
END:VEVENT
END:VCALENDAR
