BEGIN:VCALENDAR
PRODID:-//Grails iCalendar plugin//NONSGML Grails iCalendar plugin//EN
VERSION:2.0
CALSCALE:GREGORIAN
METHOD:PUBLISH
BEGIN:VEVENT
DTSTAMP:20260419T171441Z
DTSTART;TZID=Europe/Rome:20240725T090000
DTEND;TZID=Europe/Rome:20240727T170000
SUMMARY:29th Conference of the Friedrich Nietzsche Society
UID:20260421T112407Z-iCalPlugin-Grails@philevents-web-f5d4878dd-nv7xt
TZID:Europe/Rome
LOCATION:Lungadige Porta Vittoria\, 17\, Verona\, Italy
DESCRIPTION:<p><strong>29th Conference of the Friedrich Nietzsche Society </strong></p>\n<p><strong><em>Nietzsche in the Anthropocene</em></strong><strong></strong></p>\n<p><strong>University of Verona\, 25&ndash\;27 July 2024</strong></p>\n\n<p><strong>Hosted by Laura Langone and Carlo Chiurco</strong></p>\n<p><strong><br></strong></p>\n<p><strong>Call for abstracts:</strong></p>\n<p>Western civilization has maintained an ambiguous relation with nature. The Greeks saw it as <em>physis</em>\, everything that possesses in itself the principle of movement\, so that nature\, in turn\, showed &nbsp\;a paradigmatic value (in ethics\, for instance). Nature\, according to Aristotle (<em>Eth. Nic.</em> 1153b)\, is the force that\, by its own virtue\, makes each being &ldquo\;something divine&rdquo\;. <em>Physis</em>\, in Karl Jasper&rsquo\;s reading\, was also the <em>peri&eacute\;chon</em> &ndash\; not simply the &ldquo\;habitat&rdquo\; of living beings\, but what embraces every being.</p>\n<p>Especially in the past two centuries\, however\, the industrial revolution has degraded nature as a mere object to serve human purposes\, deemed far superior to those of other living beings. Humanity&rsquo\;s ruthless and careless exploitation of nature has brought the entire biosphere to the brink of catastrophe. We must urgently modify our behaviour towards nature to mitigate the long-established effects of the anthropogenic changes\, such as species&rsquo\; mass extinction and climate change\, and find our lost place in nature.</p>\n<p>In this respect\, Nietzsche&rsquo\;s philosophy appears to be particularly insightful for addressing this task. Although Nietzsche was aware of nature&rsquo\;s absolute cruelty and immorality (HH I 223\, GS 344)\, he nonetheless invited us to &ldquo\;translate humanity back into nature&rdquo\; (BGE 230)\, thus rejecting any metaphysical world beyond the Earth among others. </p>\n<p>By drawing inspiration from culturally revolutionary movements of the 19th century (e.g. Goethe and Emerson) and the challenge brought about by science (Darwin)\, Nietzsche stood against the blind utilitarianism of his time as well as the anthropocentrism embedded in much of Western civilisation.</p>\n<p>In the light of this\, how can Nietzsche&rsquo\;s philosophy inform the approaches we should adopt towards the Anthropocene? To what extent does Nietzsche&rsquo\;s revaluation of all values allow for new ethical stances towards nature and the human body?&nbsp\; How could and should our relations to animals and the environment possibly be reinvented?</p>\n<p>Possible topics for papers can include\, but are not limited to:</p>\n<ul>\n<li>Nietzsche and Anthropocene studies.</li>\n<li>Nietzsche and animal/environmental ethics.</li>\n<li>What does Nietzsche mean by &ldquo\;nature&rdquo\; (including the relation between it and individual beings)\, and what does it entail to &ldquo\;translate humanity back into nature&rdquo\;?</li>\n<li>The will to power as a philosophy of nature.</li>\n<li>The significance of our animal origins and the relationship between the animal and the overhuman.</li>\n<li>Nietzsche&rsquo\;s relationship to his contemporary natural science including evolutionary thought.</li>\n</ul>\n<ul>\n<li>Nietzsche and the history of the concepts of nature in Western philosophy\, from ancient Greeks&rsquo\; physicism to 19th-century German <em>Naturphilosophie.</em></li>\n<li>Nietzsche and post/trans-nature: possibilities and dangers of the biotechnological revolution applied onto humans\, animals\, and plants.</li>\n<li>To what extent can Nietzsche be considered a global thinker helping us imagining a different future?</li>\n</ul>\n\n<p><strong>Keynote speakers:</strong></p>\n<ul>\n<li>Rebecca Bamford (<a name="_Hlk149058561">Queen&rsquo\;s University Belfast</a>\, Northern Ireland)</li>\n<li>Andreas Urs Sommer (University of Freiburg\, Germany)</li>\n<li>Vanessa Lemm (University of Greenwich\, UK)</li>\n<li>Bernhard Malkmus (University of Oxford\, UK)</li>\n<li>Marco Brusotti (University of Salento\, Italy)</li>\n<li>Martine Prange (Tilburg University\, the Netherlands)</li>\n<li>Martin Ruehl (University of Cambridge\, UK)</li>\n</ul>\n\n<p>The conference is funded by the <strong>European Commission</strong> through its <strong>Marie Skłodowska-Curie Actions</strong>.</p>\n\n<p><strong>Abstract Guidelines</strong></p>\n<p>Submitted abstracts should be 300-500 words long. Abstracts should clearly describe proposals for a 25-minute presentation\, must be written in English or Italian\, and must be received by <strong>March 1st &nbsp\;2024</strong>. We aim to communicate decisions by <strong>April 15th 2024</strong>.</p>\n<p>Abstracts must include a title and 3-5 keywords\, set out a clear argument or thesis\, and include references to appropriate literature.</p>\n<p>Abstracts should be sent by email attachment to the FNS Conference Committee at the FNS email address: friedrich.nietzsche.society@gmail.com</p>\n<p><strong>Submission Guidelines</strong></p>\n<p>Please save your file using the following format: FNS2024ABSTRACT_YOURLASTNAME</p>\n<p>In the body of the email\, please state the following information for potential inclusion in the conference program: (1) The title of the paper\; (2) Your name and institutional affiliation (if any)\; (3) Your preferred email contact address.</p>\n<p>In the subject line of the email\, please state only the following: FNS2024ABSTRACT_YOURLASTNAME_ENGLISH or FNS2024ABSTRACT_YOURLASTNAME_ITALIANO according to the language of the abstract.</p>\n\n<p>-------------------------<em>Versione in lingua italiana</em>-----------------------------</p>\n<p><strong>&nbsp\;</strong></p>\n<p><strong>29esima Conferenza della Friedrich Nietzsche Society </strong></p>\n<p><strong><em>Nietzsche nell&rsquo\;Antropocene</em></strong><strong></strong></p>\n<p><strong>Universit&agrave\; di Verona\, 25-26-27 luglio 2024</strong></p>\n<p><strong>Organizzata da Laura Langone e Carlo Chiurco</strong></p>\n<p><strong>&nbsp\;</strong></p>\n<p><strong>Call for abstracts:</strong></p>\n<p>La civilt&agrave\; occidentale ha mantenuto un rapporto ambiguo con la natura. Agli occhi degli antichi Greci essa era <em>physis</em>\, ci&ograve\; che ha in s&eacute\; il principio del movimento\, e possedeva un valore paradigmatico (ad esempio in etica)\, tanto che\, per Aristotele (<em>Eth. Nic.</em> 1153b) &laquo\;tutto per natura ha un che di divino&raquo\;. <em>Physis</em>\, nell&rsquo\;interpretazione di Karl Jasper\, era anche il <em>peri&eacute\;chon</em> &ndash\; non semplicemente l'<em>habitat</em> degli esseri viventi\, ma il Tutto avvolgente che circonda ogni cosa.</p>\n<p>Negli ultimi due secoli la rivoluzione industriale ha degradato il mondo naturale a un mero oggetto da sfruttare a piacimento\, finendo col portare l'intero ecosistema sull'orlo del baratro. &Egrave\; tempo di agire: dobbiamo modificare urgentemente il nostro comportamento nei confronti della natura al fine di attenuare gli effetti a lungo termine dell'Antropocene\, come l'estinzione di massa delle specie e i cambiamenti climatici\, e ritrovare il nostro posto perduto nella natura.</p>\n<p>La filosofia di Nietzsche appare uno strumento prezioso per affrontare questo compito. Nonostante Nietzsche a volte parli della crudelt&agrave\; e immoralit&agrave\; della natura (UTU I 223\, GS 344)\, egli tuttavia ci ha invitato a &laquo\;ritradurre l'umanit&agrave\; nella natura&raquo\; (ABM 230)\, tra l&rsquo\;altro negando le pretese metafisiche di un mondo eterno ed immutabile al di l&agrave\; di quello terreno.</p>\n<p>Traendo ispirazione dalle rivoluzioni culturali del XIX secolo (ad esempio Goethe ed Emerson) e le sfide introdotte dalla scienza (Darwin)\, Nietzsche ha sfidato la visione della natura tipica dell'utilitarismo cieco del suo tempo e l'antropocentrismo radicato in gran parte della civilt&agrave\; occidentale. </p>\n<p>Alla luce di ci&ograve\;\, cosa ha da dire Nietzsche sull'Antropocene? In che misura la sua filosofia pu&ograve\; ispirare le risposte che dovremo mettere in campo per affrontare le sfide dell&rsquo\;Antropocene? In che modo la trasvalutazione di tutti i valori pu&ograve\; condurre a nuovi approcci etici nei confronti della natura e del corpo umano? Come potremmo ripensare le nostre interazioni con gli animali e l'ambiente a partire dalla filosofia di Nietzsche? </p>\n<p>Argomenti possibili:</p>\n<ul>\n<li>Nietzsche e gli Antropocene studies.</li>\n<li>Nietzsche e l&rsquo\;etica animale/l&rsquo\;etica ambientale.</li>\n<li>Cosa intende Nietzsche per &laquo\;natura&raquo\; (inclusa la sua relazione coi viventi)\, e cosa vuol dire con l&rsquo\;espressione <a name="_Hlk148981365">&laquo\;</a>ritradurre l'umanit&agrave\; nella natura<a name="_Hlk148981375">&raquo\;</a>? </li>\n<li>La volont&agrave\; di potenza come filosofia della natura.</li>\n<li>Il significato delle nostre origini animali e del rapporto tra gli animali e l'oltreumano.</li>\n<li>Il rapporto di Nietzsche con le scienze naturali a lui contemporanee\, inclusa la teoria dell'evoluzione.</li>\n<li>Nietzsche e la storia dei concetti di natura nella filosofia occidentale\, dall'antica fisica greca alla <em>Naturphilosophie </em>tedesca del XIX secolo.</li>\n<li>Nietzsche e la post/trans-natura: possibilit&agrave\; e pericoli della rivoluzione biotecnologica applicata a esseri umani\, animali e piante.</li>\n<li>In che misura Nietzsche pu&ograve\; essere considerato un pensatore globale capace di farci immaginare un futuro diverso?</li>\n</ul>\n\n<p><strong>Keynote speakers:</strong></p>\n<ul>\n<li>Rebecca Bamford (Queen&rsquo\;s Universit&agrave\; di Belfast\, Irlanda del Nord)</li>\n<li>Andreas Urs Sommer (Universit&agrave\; di Friburgo\, Germania)</li>\n<li>Vanessa Lemm (Universit&agrave\; di Greenwich\, Regno Unito)</li>\n<li>Bernhard Malkmus (Universit&agrave\; di Oxford\, Regno Unito)</li>\n<li>Marco Brusotti (Universit&agrave\; del Salento\, Italia)</li>\n<li>Martine Prange (Universit&agrave\; di Tilburg\, Olanda)</li>\n<li>Martin Ruehl (Universit&agrave\; di Cambridge\, Regno Unito)</li>\n</ul>\n\n<p>La conferenza &egrave\; finanziata dalla <strong>Commissione Europea</strong> attraverso i fondi <strong>Marie Skłodowska-Curie Actions.</strong></p>\n<p><strong>&nbsp\;</strong></p>\n<p><strong>Linee guida per gli abstract</strong></p>\n<p>Gli abstract devono essere di minimo 300 e massimo 500 parole e pensati per una presentazione di 25 minuti. Devono essere redatti in inglese oppure in italiano e pervenire entro il <strong>1 marzo 2024</strong>. Le notifiche di accettazione verranno inviate entro il <strong>15 aprile 2024</strong>.</p>\n<p>Gli abstract devono includere un titolo e 3-5 parole chiave\, delineare una tesi precisa e includere riferimenti alla letteratura appropriata.</p>\n<p>Gli abstract devono essere inviati come allegato via email al comitato scientifico della conferenza all'indirizzo email FNS: friedrich.nietzsche.society@gmail.com</p>\n<p><strong>Linee guida per la candidatura</strong></p>\n<p>L&rsquo\;abstract va salvato come segue: FNS2024ABSTRACT_ILTUOCOGNOME</p>\n<p>Nell'email bisogna indicare le seguenti informazioni: (1) il titolo del contributo\; (2) nome e affiliazione istituzionale (se presente)\; (3) un indirizzo email a cui essere contattati.</p>\n<p>Nell'oggetto dell'email\, bisogna specificare solo quanto segue:</p>\n<p>FNS2024ABSTRACT_ILTUOCOGNOME_ENGLISH oppure FNS2024ABSTRACT_ILTUOCOGNOME_ITALIANO a seconda della lingua in cui &egrave\; scritto l&rsquo\;abstract.</p>\n
ORGANIZER;CN=Laura Langone:
METHOD:PUBLISH
END:VEVENT
END:VCALENDAR
