BEGIN:VCALENDAR
PRODID:-//Grails iCalendar plugin//NONSGML Grails iCalendar plugin//EN
VERSION:2.0
CALSCALE:GREGORIAN
METHOD:PUBLISH
BEGIN:VEVENT
DTSTAMP:20260422T170336Z
DTSTART;TZID=Europe/London:20231130T130000
DTEND;TZID=Europe/London:20231130T170000
SUMMARY:Risk and Responsibility Conference: Law and Climate Change
UID:20260426T235808Z-iCalPlugin-Grails@philevents-web-6b96c54f56-bljdq
TZID:Europe/London
DESCRIPTION:<p><strong>Zoom link and info</strong></p>\n<p>https://uni-graz.zoom.us/j/66973823621?pwd=YUZ6cFpkbUFEZi9uUTBMYkI5YUZpQT09</p>\n<p>Meeting ID: 669 7382 3621 | Passcode: 557023</p>\n<p>--</p>\n<p><strong>Conference description</strong></p>\n<p>Risk and responsibility are topics of growing concern within philosophy and beyond. The concepts themselves\, their relationship to each other\, and how they manifest in different fields are still being worked out. This online conference brings together scholars thinking about various aspects of risk and responsibility as related to law and climate change\, respectively.</p>\n<p>--</p>\n<p><strong>Date and time</strong></p>\n<p>30 November 2023 from 12:00 p.m. to 6 p.m. (GMT/WET - London\, Lisbon) /</p>\n<p>1:00 p.m. to 7 p.m. (CET - Amsterdam\, Vienna - UTC+1h) /</p>\n<p>4:00 a.m. to 10:00 a.m. (PST - Portland\, Los Angeles - UTC+8h)</p>\n<p>--</p>\n<p><strong>Conference Program (times listed below are GMT/WET &ndash\; London\, Lisbon)</strong></p>\n<p>Panel 1: Law</p>\n<p>12:00 &ndash\; 13:00 (London UTC) / 13:00 &ndash\; 14:00 (Vienna UTC+01:00)</p>\n<p>RA Duff\, (University of Stirling)\, &ldquo\;Risk\, Responsibility\, and Pre-Trial Detention&rdquo\;</p>\n<p>13:00 &ndash\; 14:00</p>\n<p>Anne Ruth Mackor (University of Groningen)\, &ldquo\;Risks of Incorrect Use of Probabilities in Court and What to Do about Them&rdquo\;</p>\n<p>14:00 &ndash\; 15:00: Break</p>\n<p>Panel 2: Climate Change</p>\n<p>15:00 &ndash\; 16:00</p>\n<p>Samantha Copeland (Delft University of Technology)\, &ldquo\;Resilience and Responsibilities: Normative Resilience for Responsibility Arrangements&rdquo\;</p>\n<p>16:00 &ndash\; 17:00</p>\n<p>Avram Hiller (Portland State University)\, &ldquo\;Individual Climate Risks at the Bounds of Rationality&rdquo\;</p>\n<p>17:00 &ndash\; 18:00</p>\n<p>Harald Stelzer (University of Graz)\, &ldquo\;Responsible Innovation and Climate Engineering. A Step Back to Technology Assessment&rdquo\;</p>\n<p>----</p>\n<p><strong>Available texts:</strong> Presentations 1-4 will discuss chapters freely available in the edited volume <em>Risk and Responsibility in Context</em> (Routledge 2023) at<a href="https://doi.org/10.4324/9781003276029">https://doi.org/10.4324/9781003276029</a>. Harald Stelzer&rsquo\;s text is available at <a href="https://doi.org/10.1007/s40926-020-00127-z">https://doi.org/10.1007/s40926-020-00127-z</a></p>\n<p><em>Risk and Responsibility in Context</em> (Routledge 2023) was published with the support of the Austrian Science Fund (FWF): PUB-1003.</p>\n<p><strong>Organizers:</strong> This conference is organized by Stearns Broadhead (University of Graz)\, as part of the Austrian Science Fund (FWF)-financed research project\, <em>Responsibility for Risks: Theory and Practice</em> (P 31527) and Adriana Placani (NOVA University of Lisbon)\, supported by national funds through FCT - Funda&ccedil\;&atilde\;o para a Ci&ecirc\;ncia e a Tecnologia\, I.P.\, under the Scientific Employment Stimulus - Individual Call - CEECIND/02135/2021.</p>
ORGANIZER;CN=Stearns Broadhead;CN=Adriana Placani:
METHOD:PUBLISH
END:VEVENT
END:VCALENDAR
