BEGIN:VCALENDAR
PRODID:-//Grails iCalendar plugin//NONSGML Grails iCalendar plugin//EN
VERSION:2.0
CALSCALE:GREGORIAN
METHOD:PUBLISH
BEGIN:VEVENT
DTSTAMP:20260419T132346Z
DTSTART;TZID=Europe/Zurich:20240624T090000
DTEND;TZID=Europe/Zurich:20240628T170000
SUMMARY:Ninth Annual Conference of the International Association for the Philosophy of Time (IAPT)
UID:20260420T131535Z-iCalPlugin-Grails@philevents-web-f5d4878dd-nv7xt
TZID:Europe/Zurich
LOCATION:Via buffi 13\, Lugano\, Switzerland\, 6900
DESCRIPTION:<p>The International Association for Philosophy of Time (IAPT) is pleased to announce its <strong>9th annual conference</strong> to be held at the Institute of Philosophy at Universit&agrave\; della Svizzera Italiana (USI) in <strong>Lugano\, Switzerland\, on 24th&ndash\;28th June 2024</strong>.</p>\n<p>The 5-day conference will include 14 keynote speakers\, two symposia as well as 36 slots for selected speakers. Talks will deal with any aspect pertaining to the <strong>philosophy of time\, broadly construed</strong>. See CFP for further details.</p>\n<p>The local organisers are Damiano Costa and Cristian Mariani. The programme committee is chaired by David Ingram. The conference is sponsored by Swiss National Science Foundation grants\, Temporal Existence (Costa\, SNSF Starting Grant\, 211294)\, and Quantum Indeterminacy (Mariani\, SNSF Ambizione\, 208762).</p>
ORGANIZER;CN=Damiano Costa;CN=Cristian Mariani:
METHOD:PUBLISH
END:VEVENT
END:VCALENDAR
