BEGIN:VCALENDAR
PRODID:-//Grails iCalendar plugin//NONSGML Grails iCalendar plugin//EN
VERSION:2.0
CALSCALE:GREGORIAN
METHOD:PUBLISH
BEGIN:VEVENT
DTSTAMP:20260419T150016Z
DTSTART;TZID=Europe/Zurich:20240131T120000
DTEND;TZID=Europe/Zurich:20240131T120000
SUMMARY:Ninth Annual Conference of the International Association for the Philosophy of Time (IAPT)
UID:20260420T224400Z-iCalPlugin-Grails@philevents-web-f5d4878dd-nv7xt
TZID:Europe/Zurich
LOCATION:Via buffi 13\, Lugano\, Switzerland\, 6900
DESCRIPTION:<p>The International Association for Philosophy of Time (IAPT) is pleased to announce its&nbsp\;<strong>9th annual conference</strong>&nbsp\;to be held at the Institute of Philosophy at Universit&agrave\; della Svizzera Italiana (USI) in&nbsp\;<strong>Lugano\, Switzerland\, on 24th&ndash\;28th June 2024</strong>.</p>\n<p>The 5-day conference will include 13 keynote speakers\, two symposia as well as 24 slots for selected speakers. Talks will deal with any aspect pertaining to the&nbsp\;<strong>philosophy of time\, broadly construed</strong>.</p>\n<p>The list of invited speakers includes:&nbsp\;Craig Callender\, Fabrice Correia\, Nina Emery\, Kit Fine\, Jenann Ismael\, Tim Maudlin\, Kristie Miller\, Laurie Paul\, Oliver Pooley\, Thomas Sattig\, Daniel Sudarsky\, Emily Thomas\, Christian W&uuml\;thrich.</p>\n<p><strong>Call for Abstracts</strong>: the organisers request submissions of high-quality abstracts (500 words max.) of papers on the philosophy of time\, broadly construed\, suitable for 40-minute presentations. Abstracts should be prepared for blind review and submitted by email (as a .docx or .pdf file) to&nbsp\;iapt9lugano@gmail.com&nbsp\;by&nbsp\;<strong>31st January 2024\, 12.00 pm (noon) GMT</strong>. The submission email should include your name\, institutional affiliation\, and the title of the paper (in the body of the email). Successful applicants will be notified and the full programme confirmed in April.</p>
ORGANIZER;CN=Damiano Costa;CN=Cristian Mariani:
METHOD:PUBLISH
END:VEVENT
END:VCALENDAR
